BEGIN:VCALENDAR
VERSION:2.0
PRODID:-//Florida NY Chamber - ECPv6.15.20//NONSGML v1.0//EN
CALSCALE:GREGORIAN
METHOD:PUBLISH
X-WR-CALNAME:Florida NY Chamber
X-ORIGINAL-URL:https://floridanychamber.com
X-WR-CALDESC:Events for Florida NY Chamber
REFRESH-INTERVAL;VALUE=DURATION:PT1H
X-Robots-Tag:noindex
X-PUBLISHED-TTL:PT1H
BEGIN:VTIMEZONE
TZID:America/New_York
BEGIN:DAYLIGHT
TZOFFSETFROM:-0500
TZOFFSETTO:-0400
TZNAME:EDT
DTSTART:20250309T070000
END:DAYLIGHT
BEGIN:STANDARD
TZOFFSETFROM:-0400
TZOFFSETTO:-0500
TZNAME:EST
DTSTART:20251102T060000
END:STANDARD
BEGIN:DAYLIGHT
TZOFFSETFROM:-0500
TZOFFSETTO:-0400
TZNAME:EDT
DTSTART:20260308T070000
END:DAYLIGHT
BEGIN:STANDARD
TZOFFSETFROM:-0400
TZOFFSETTO:-0500
TZNAME:EST
DTSTART:20261101T060000
END:STANDARD
BEGIN:DAYLIGHT
TZOFFSETFROM:-0500
TZOFFSETTO:-0400
TZNAME:EDT
DTSTART:20270314T070000
END:DAYLIGHT
BEGIN:STANDARD
TZOFFSETFROM:-0400
TZOFFSETTO:-0500
TZNAME:EST
DTSTART:20271107T060000
END:STANDARD
END:VTIMEZONE
BEGIN:VEVENT
DTSTART;TZID=America/New_York:20260424T203000
DTEND;TZID=America/New_York:20260424T233000
DTSTAMP:20260424T115229
CREATED:20250429T224136Z
LAST-MODIFIED:20250429T224136Z
UID:10001303-1777062600-1777073400@floridanychamber.com
SUMMARY:Live at Barrel 28
DESCRIPTION:
URL:https://floridanychamber.com/event/live-at-barrel-28/2026-04-24
LOCATION:Barrel 28\, 28 North Main Street\, Florida\, NY\, 10921
CATEGORIES:Live Music
ATTACH;FMTTYPE=image/jpeg:https://floridanychamber.com/wp-content/uploads/2025/04/492920215_988377616818081_1780179259162028801_n.jpg
END:VEVENT
BEGIN:VEVENT
DTSTART;TZID=America/New_York:20260425T190000
DTEND;TZID=America/New_York:20260425T210000
DTSTAMP:20260424T115229
CREATED:20260419T225806Z
LAST-MODIFIED:20260419T225806Z
UID:10002843-1777143600-1777150800@floridanychamber.com
SUMMARY:Open Mike Night at Edenville General Store
DESCRIPTION:
URL:https://floridanychamber.com/event/open-mike-night-at-edenville-general-store/2026-04-25
CATEGORIES:Edenville Event,Live Music
ATTACH;FMTTYPE=image/jpeg:https://floridanychamber.com/wp-content/uploads/2025/10/edenville.jpg
END:VEVENT
BEGIN:VEVENT
DTSTART;TZID=America/New_York:20260425T203000
DTEND;TZID=America/New_York:20260425T233000
DTSTAMP:20260424T115229
CREATED:20250429T224229Z
LAST-MODIFIED:20250429T224229Z
UID:10001614-1777149000-1777159800@floridanychamber.com
SUMMARY:Live at Barrel 28
DESCRIPTION:
URL:https://floridanychamber.com/event/live-at-barrel-28-2/2026-04-25
CATEGORIES:Live Music
ATTACH;FMTTYPE=image/jpeg:https://floridanychamber.com/wp-content/uploads/2025/04/492920215_988377616818081_1780179259162028801_n.jpg
END:VEVENT
END:VCALENDAR