BEGIN:VCALENDAR
VERSION:2.0
PRODID:-//Florida NY Chamber - ECPv6.15.20//NONSGML v1.0//EN
CALSCALE:GREGORIAN
METHOD:PUBLISH
X-ORIGINAL-URL:https://floridanychamber.com
X-WR-CALDESC:Events for Florida NY Chamber
REFRESH-INTERVAL;VALUE=DURATION:PT1H
X-Robots-Tag:noindex
X-PUBLISHED-TTL:PT1H
BEGIN:VTIMEZONE
TZID:America/New_York
BEGIN:DAYLIGHT
TZOFFSETFROM:-0500
TZOFFSETTO:-0400
TZNAME:EDT
DTSTART:20250309T070000
END:DAYLIGHT
BEGIN:STANDARD
TZOFFSETFROM:-0400
TZOFFSETTO:-0500
TZNAME:EST
DTSTART:20251102T060000
END:STANDARD
BEGIN:DAYLIGHT
TZOFFSETFROM:-0500
TZOFFSETTO:-0400
TZNAME:EDT
DTSTART:20260308T070000
END:DAYLIGHT
BEGIN:STANDARD
TZOFFSETFROM:-0400
TZOFFSETTO:-0500
TZNAME:EST
DTSTART:20261101T060000
END:STANDARD
BEGIN:DAYLIGHT
TZOFFSETFROM:-0500
TZOFFSETTO:-0400
TZNAME:EDT
DTSTART:20270314T070000
END:DAYLIGHT
BEGIN:STANDARD
TZOFFSETFROM:-0400
TZOFFSETTO:-0500
TZNAME:EST
DTSTART:20271107T060000
END:STANDARD
END:VTIMEZONE
BEGIN:VEVENT
DTSTART;TZID=America/New_York:20260425T083000
DTEND;TZID=America/New_York:20260425T150000
DTSTAMP:20260424T220813
CREATED:20260419T225609Z
LAST-MODIFIED:20260419T225609Z
UID:10002842-1777105800-1777129200@floridanychamber.com
SUMMARY:Flea Market at Edenville General Store
DESCRIPTION:
URL:https://floridanychamber.com/event/flea-market-at-edenville-general-store
LOCATION:Edenville General Store\, 240 Pine Island Tpke\, Warwick\, NY\, 10990
CATEGORIES:Edenville Event
ATTACH;FMTTYPE=image/jpeg:https://floridanychamber.com/wp-content/uploads/2025/10/edenville.jpg
END:VEVENT
BEGIN:VEVENT
DTSTART;TZID=America/New_York:20260425T190000
DTEND;TZID=America/New_York:20260425T210000
DTSTAMP:20260424T220813
CREATED:20260419T225806Z
LAST-MODIFIED:20260419T225806Z
UID:10002843-1777143600-1777150800@floridanychamber.com
SUMMARY:Open Mike Night at Edenville General Store
DESCRIPTION:
URL:https://floridanychamber.com/event/open-mike-night-at-edenville-general-store/2026-04-25
CATEGORIES:Edenville Event,Live Music
ATTACH;FMTTYPE=image/jpeg:https://floridanychamber.com/wp-content/uploads/2025/10/edenville.jpg
END:VEVENT
BEGIN:VEVENT
DTSTART;TZID=America/New_York:20260501T190000
DTEND;TZID=America/New_York:20260501T210000
DTSTAMP:20260424T220813
CREATED:20260419T230014Z
LAST-MODIFIED:20260419T230014Z
UID:10003104-1777662000-1777669200@floridanychamber.com
SUMMARY:Trivia Night at Edenville General Store
DESCRIPTION:
URL:https://floridanychamber.com/event/trivia-night-at-edenville-general-store/2026-05-01
CATEGORIES:Edenville Event
ATTACH;FMTTYPE=image/jpeg:https://floridanychamber.com/wp-content/uploads/2025/10/edenville.jpg
END:VEVENT
BEGIN:VEVENT
DTSTART;TZID=America/New_York:20260503T140000
DTEND;TZID=America/New_York:20260503T170000
DTSTAMP:20260424T220813
CREATED:20260419T231645Z
LAST-MODIFIED:20260419T231645Z
UID:10003438-1777816800-1777827600@floridanychamber.com
SUMMARY:Edenville General Store Presents
DESCRIPTION:Bunker Boys\, blue grass band: May 3\, 2026\nMay 17: Songwriters 1-4PM\nJune 14: Oxford Station Band\, blue grass band: 3-5PM
URL:https://floridanychamber.com/event/edenville-general-store-presents-3
CATEGORIES:Edenville Event
ATTACH;FMTTYPE=image/jpeg:https://floridanychamber.com/wp-content/uploads/2026/04/633905032_1481680607290876_1907445902890526664_n.jpg
END:VEVENT
BEGIN:VEVENT
DTSTART;TZID=America/New_York:20260507T160000
DTEND;TZID=America/New_York:20260507T190000
DTSTAMP:20260424T220813
CREATED:20260419T230302Z
LAST-MODIFIED:20260419T230302Z
UID:10003364-1778169600-1778180400@floridanychamber.com
SUMMARY:Car Show at Edenville General Store
DESCRIPTION:
URL:https://floridanychamber.com/event/car-show-at-edenville-general-store/2026-05-07
CATEGORIES:Edenville Event
ATTACH;FMTTYPE=image/jpeg:https://floridanychamber.com/wp-content/uploads/2026/04/tingeling-car-show-2391132-scaled.jpg
END:VEVENT
BEGIN:VEVENT
DTSTART;TZID=America/New_York:20260614T150000
DTEND;TZID=America/New_York:20260614T170000
DTSTAMP:20260424T220813
CREATED:20260419T231022Z
LAST-MODIFIED:20260419T231456Z
UID:10003440-1781449200-1781456400@floridanychamber.com
SUMMARY:Edenville General Store Presents
DESCRIPTION:June 14: Oxford Station Band\, bluegrass
URL:https://floridanychamber.com/event/edenville-general-store-presents-2
CATEGORIES:Edenville Event
ATTACH;FMTTYPE=image/jpeg:https://floridanychamber.com/wp-content/uploads/2026/04/oxford-station.jpg
END:VEVENT
END:VCALENDAR