BEGIN:VCALENDAR
VERSION:2.0
PRODID:-//Florida NY Chamber - ECPv6.15.20//NONSGML v1.0//EN
CALSCALE:GREGORIAN
METHOD:PUBLISH
X-WR-CALNAME:Florida NY Chamber
X-ORIGINAL-URL:https://floridanychamber.com
X-WR-CALDESC:Events for Florida NY Chamber
REFRESH-INTERVAL;VALUE=DURATION:PT1H
X-Robots-Tag:noindex
X-PUBLISHED-TTL:PT1H
BEGIN:VTIMEZONE
TZID:America/New_York
BEGIN:DAYLIGHT
TZOFFSETFROM:-0500
TZOFFSETTO:-0400
TZNAME:EDT
DTSTART:20250309T070000
END:DAYLIGHT
BEGIN:STANDARD
TZOFFSETFROM:-0400
TZOFFSETTO:-0500
TZNAME:EST
DTSTART:20251102T060000
END:STANDARD
BEGIN:DAYLIGHT
TZOFFSETFROM:-0500
TZOFFSETTO:-0400
TZNAME:EDT
DTSTART:20260308T070000
END:DAYLIGHT
BEGIN:STANDARD
TZOFFSETFROM:-0400
TZOFFSETTO:-0500
TZNAME:EST
DTSTART:20261101T060000
END:STANDARD
BEGIN:DAYLIGHT
TZOFFSETFROM:-0500
TZOFFSETTO:-0400
TZNAME:EDT
DTSTART:20270314T070000
END:DAYLIGHT
BEGIN:STANDARD
TZOFFSETFROM:-0400
TZOFFSETTO:-0500
TZNAME:EST
DTSTART:20271107T060000
END:STANDARD
END:VTIMEZONE
BEGIN:VEVENT
DTSTART;TZID=America/New_York:20260501T203000
DTEND;TZID=America/New_York:20260501T233000
DTSTAMP:20260424T115624
CREATED:20250429T224136Z
LAST-MODIFIED:20250429T224136Z
UID:10001304-1777667400-1777678200@floridanychamber.com
SUMMARY:Live at Barrel 28
DESCRIPTION:
URL:https://floridanychamber.com/event/live-at-barrel-28/2026-05-01
LOCATION:Barrel 28\, 28 North Main Street\, Florida\, NY\, 10921
CATEGORIES:Live Music
ATTACH;FMTTYPE=image/jpeg:https://floridanychamber.com/wp-content/uploads/2025/04/492920215_988377616818081_1780179259162028801_n.jpg
END:VEVENT
BEGIN:VEVENT
DTSTART;TZID=America/New_York:20260502T190000
DTEND;TZID=America/New_York:20260502T210000
DTSTAMP:20260424T115624
CREATED:20260419T225806Z
LAST-MODIFIED:20260419T225806Z
UID:10002844-1777748400-1777755600@floridanychamber.com
SUMMARY:Open Mike Night at Edenville General Store
DESCRIPTION:
URL:https://floridanychamber.com/event/open-mike-night-at-edenville-general-store/2026-05-02
CATEGORIES:Edenville Event,Live Music
ATTACH;FMTTYPE=image/jpeg:https://floridanychamber.com/wp-content/uploads/2025/10/edenville.jpg
END:VEVENT
BEGIN:VEVENT
DTSTART;TZID=America/New_York:20260502T203000
DTEND;TZID=America/New_York:20260502T233000
DTSTAMP:20260424T115624
CREATED:20250429T224229Z
LAST-MODIFIED:20250429T224229Z
UID:10001616-1777753800-1777764600@floridanychamber.com
SUMMARY:Live at Barrel 28
DESCRIPTION:
URL:https://floridanychamber.com/event/live-at-barrel-28-2/2026-05-02
CATEGORIES:Live Music
ATTACH;FMTTYPE=image/jpeg:https://floridanychamber.com/wp-content/uploads/2025/04/492920215_988377616818081_1780179259162028801_n.jpg
END:VEVENT
BEGIN:VEVENT
DTSTART;TZID=America/New_York:20260503T203000
DTEND;TZID=America/New_York:20260503T233000
DTSTAMP:20260424T115624
CREATED:20250429T224229Z
LAST-MODIFIED:20250429T224229Z
UID:10001617-1777840200-1777851000@floridanychamber.com
SUMMARY:Live at Barrel 28
DESCRIPTION:
URL:https://floridanychamber.com/event/live-at-barrel-28-2/2026-05-03
CATEGORIES:Live Music
ATTACH;FMTTYPE=image/jpeg:https://floridanychamber.com/wp-content/uploads/2025/04/492920215_988377616818081_1780179259162028801_n.jpg
END:VEVENT
BEGIN:VEVENT
DTSTART;TZID=America/New_York:20260508T203000
DTEND;TZID=America/New_York:20260508T233000
DTSTAMP:20260424T115624
CREATED:20250429T224136Z
LAST-MODIFIED:20250429T224136Z
UID:10001305-1778272200-1778283000@floridanychamber.com
SUMMARY:Live at Barrel 28
DESCRIPTION:
URL:https://floridanychamber.com/event/live-at-barrel-28/2026-05-08
LOCATION:Barrel 28\, 28 North Main Street\, Florida\, NY\, 10921
CATEGORIES:Live Music
ATTACH;FMTTYPE=image/jpeg:https://floridanychamber.com/wp-content/uploads/2025/04/492920215_988377616818081_1780179259162028801_n.jpg
END:VEVENT
BEGIN:VEVENT
DTSTART;TZID=America/New_York:20260509T190000
DTEND;TZID=America/New_York:20260509T210000
DTSTAMP:20260424T115624
CREATED:20260419T225806Z
LAST-MODIFIED:20260419T225806Z
UID:10002845-1778353200-1778360400@floridanychamber.com
SUMMARY:Open Mike Night at Edenville General Store
DESCRIPTION:
URL:https://floridanychamber.com/event/open-mike-night-at-edenville-general-store/2026-05-09
CATEGORIES:Edenville Event,Live Music
ATTACH;FMTTYPE=image/jpeg:https://floridanychamber.com/wp-content/uploads/2025/10/edenville.jpg
END:VEVENT
BEGIN:VEVENT
DTSTART;TZID=America/New_York:20260509T203000
DTEND;TZID=America/New_York:20260509T233000
DTSTAMP:20260424T115624
CREATED:20250429T224229Z
LAST-MODIFIED:20250429T224229Z
UID:10001618-1778358600-1778369400@floridanychamber.com
SUMMARY:Live at Barrel 28
DESCRIPTION:
URL:https://floridanychamber.com/event/live-at-barrel-28-2/2026-05-09
CATEGORIES:Live Music
ATTACH;FMTTYPE=image/jpeg:https://floridanychamber.com/wp-content/uploads/2025/04/492920215_988377616818081_1780179259162028801_n.jpg
END:VEVENT
BEGIN:VEVENT
DTSTART;TZID=America/New_York:20260510T203000
DTEND;TZID=America/New_York:20260510T233000
DTSTAMP:20260424T115624
CREATED:20250429T224229Z
LAST-MODIFIED:20250429T224229Z
UID:10001619-1778445000-1778455800@floridanychamber.com
SUMMARY:Live at Barrel 28
DESCRIPTION:
URL:https://floridanychamber.com/event/live-at-barrel-28-2/2026-05-10
CATEGORIES:Live Music
ATTACH;FMTTYPE=image/jpeg:https://floridanychamber.com/wp-content/uploads/2025/04/492920215_988377616818081_1780179259162028801_n.jpg
END:VEVENT
BEGIN:VEVENT
DTSTART;TZID=America/New_York:20260515T203000
DTEND;TZID=America/New_York:20260515T233000
DTSTAMP:20260424T115624
CREATED:20250429T224136Z
LAST-MODIFIED:20250429T224136Z
UID:10001306-1778877000-1778887800@floridanychamber.com
SUMMARY:Live at Barrel 28
DESCRIPTION:
URL:https://floridanychamber.com/event/live-at-barrel-28/2026-05-15
LOCATION:Barrel 28\, 28 North Main Street\, Florida\, NY\, 10921
CATEGORIES:Live Music
ATTACH;FMTTYPE=image/jpeg:https://floridanychamber.com/wp-content/uploads/2025/04/492920215_988377616818081_1780179259162028801_n.jpg
END:VEVENT
BEGIN:VEVENT
DTSTART;TZID=America/New_York:20260516T190000
DTEND;TZID=America/New_York:20260516T210000
DTSTAMP:20260424T115624
CREATED:20260419T225806Z
LAST-MODIFIED:20260419T225806Z
UID:10002846-1778958000-1778965200@floridanychamber.com
SUMMARY:Open Mike Night at Edenville General Store
DESCRIPTION:
URL:https://floridanychamber.com/event/open-mike-night-at-edenville-general-store/2026-05-16
CATEGORIES:Edenville Event,Live Music
ATTACH;FMTTYPE=image/jpeg:https://floridanychamber.com/wp-content/uploads/2025/10/edenville.jpg
END:VEVENT
BEGIN:VEVENT
DTSTART;TZID=America/New_York:20260516T203000
DTEND;TZID=America/New_York:20260516T233000
DTSTAMP:20260424T115624
CREATED:20250429T224229Z
LAST-MODIFIED:20250429T224229Z
UID:10001620-1778963400-1778974200@floridanychamber.com
SUMMARY:Live at Barrel 28
DESCRIPTION:
URL:https://floridanychamber.com/event/live-at-barrel-28-2/2026-05-16
CATEGORIES:Live Music
ATTACH;FMTTYPE=image/jpeg:https://floridanychamber.com/wp-content/uploads/2025/04/492920215_988377616818081_1780179259162028801_n.jpg
END:VEVENT
BEGIN:VEVENT
DTSTART;TZID=America/New_York:20260517T203000
DTEND;TZID=America/New_York:20260517T233000
DTSTAMP:20260424T115624
CREATED:20250429T224229Z
LAST-MODIFIED:20250429T224229Z
UID:10001621-1779049800-1779060600@floridanychamber.com
SUMMARY:Live at Barrel 28
DESCRIPTION:
URL:https://floridanychamber.com/event/live-at-barrel-28-2/2026-05-17
CATEGORIES:Live Music
ATTACH;FMTTYPE=image/jpeg:https://floridanychamber.com/wp-content/uploads/2025/04/492920215_988377616818081_1780179259162028801_n.jpg
END:VEVENT
BEGIN:VEVENT
DTSTART;TZID=America/New_York:20260522T203000
DTEND;TZID=America/New_York:20260522T233000
DTSTAMP:20260424T115624
CREATED:20250429T224136Z
LAST-MODIFIED:20250429T224136Z
UID:10001307-1779481800-1779492600@floridanychamber.com
SUMMARY:Live at Barrel 28
DESCRIPTION:
URL:https://floridanychamber.com/event/live-at-barrel-28/2026-05-22
LOCATION:Barrel 28\, 28 North Main Street\, Florida\, NY\, 10921
CATEGORIES:Live Music
ATTACH;FMTTYPE=image/jpeg:https://floridanychamber.com/wp-content/uploads/2025/04/492920215_988377616818081_1780179259162028801_n.jpg
END:VEVENT
BEGIN:VEVENT
DTSTART;TZID=America/New_York:20260523T190000
DTEND;TZID=America/New_York:20260523T210000
DTSTAMP:20260424T115624
CREATED:20260419T225806Z
LAST-MODIFIED:20260419T225806Z
UID:10002847-1779562800-1779570000@floridanychamber.com
SUMMARY:Open Mike Night at Edenville General Store
DESCRIPTION:
URL:https://floridanychamber.com/event/open-mike-night-at-edenville-general-store/2026-05-23
CATEGORIES:Edenville Event,Live Music
ATTACH;FMTTYPE=image/jpeg:https://floridanychamber.com/wp-content/uploads/2025/10/edenville.jpg
END:VEVENT
BEGIN:VEVENT
DTSTART;TZID=America/New_York:20260523T203000
DTEND;TZID=America/New_York:20260523T233000
DTSTAMP:20260424T115624
CREATED:20250429T224229Z
LAST-MODIFIED:20250429T224229Z
UID:10001622-1779568200-1779579000@floridanychamber.com
SUMMARY:Live at Barrel 28
DESCRIPTION:
URL:https://floridanychamber.com/event/live-at-barrel-28-2/2026-05-23
CATEGORIES:Live Music
ATTACH;FMTTYPE=image/jpeg:https://floridanychamber.com/wp-content/uploads/2025/04/492920215_988377616818081_1780179259162028801_n.jpg
END:VEVENT
BEGIN:VEVENT
DTSTART;TZID=America/New_York:20260524T203000
DTEND;TZID=America/New_York:20260524T233000
DTSTAMP:20260424T115624
CREATED:20250429T224229Z
LAST-MODIFIED:20250429T224229Z
UID:10001623-1779654600-1779665400@floridanychamber.com
SUMMARY:Live at Barrel 28
DESCRIPTION:
URL:https://floridanychamber.com/event/live-at-barrel-28-2/2026-05-24
CATEGORIES:Live Music
ATTACH;FMTTYPE=image/jpeg:https://floridanychamber.com/wp-content/uploads/2025/04/492920215_988377616818081_1780179259162028801_n.jpg
END:VEVENT
BEGIN:VEVENT
DTSTART;TZID=America/New_York:20260529T203000
DTEND;TZID=America/New_York:20260529T233000
DTSTAMP:20260424T115624
CREATED:20250429T224136Z
LAST-MODIFIED:20250429T224136Z
UID:10001308-1780086600-1780097400@floridanychamber.com
SUMMARY:Live at Barrel 28
DESCRIPTION:
URL:https://floridanychamber.com/event/live-at-barrel-28/2026-05-29
LOCATION:Barrel 28\, 28 North Main Street\, Florida\, NY\, 10921
CATEGORIES:Live Music
ATTACH;FMTTYPE=image/jpeg:https://floridanychamber.com/wp-content/uploads/2025/04/492920215_988377616818081_1780179259162028801_n.jpg
END:VEVENT
BEGIN:VEVENT
DTSTART;TZID=America/New_York:20260530T190000
DTEND;TZID=America/New_York:20260530T210000
DTSTAMP:20260424T115624
CREATED:20260419T225806Z
LAST-MODIFIED:20260419T225806Z
UID:10002848-1780167600-1780174800@floridanychamber.com
SUMMARY:Open Mike Night at Edenville General Store
DESCRIPTION:
URL:https://floridanychamber.com/event/open-mike-night-at-edenville-general-store/2026-05-30
CATEGORIES:Edenville Event,Live Music
ATTACH;FMTTYPE=image/jpeg:https://floridanychamber.com/wp-content/uploads/2025/10/edenville.jpg
END:VEVENT
BEGIN:VEVENT
DTSTART;TZID=America/New_York:20260530T203000
DTEND;TZID=America/New_York:20260530T233000
DTSTAMP:20260424T115624
CREATED:20250429T224229Z
LAST-MODIFIED:20250429T224229Z
UID:10001624-1780173000-1780183800@floridanychamber.com
SUMMARY:Live at Barrel 28
DESCRIPTION:
URL:https://floridanychamber.com/event/live-at-barrel-28-2/2026-05-30
CATEGORIES:Live Music
ATTACH;FMTTYPE=image/jpeg:https://floridanychamber.com/wp-content/uploads/2025/04/492920215_988377616818081_1780179259162028801_n.jpg
END:VEVENT
BEGIN:VEVENT
DTSTART;TZID=America/New_York:20260531T203000
DTEND;TZID=America/New_York:20260531T233000
DTSTAMP:20260424T115624
CREATED:20250429T224229Z
LAST-MODIFIED:20250429T224229Z
UID:10001625-1780259400-1780270200@floridanychamber.com
SUMMARY:Live at Barrel 28
DESCRIPTION:
URL:https://floridanychamber.com/event/live-at-barrel-28-2/2026-05-31
CATEGORIES:Live Music
ATTACH;FMTTYPE=image/jpeg:https://floridanychamber.com/wp-content/uploads/2025/04/492920215_988377616818081_1780179259162028801_n.jpg
END:VEVENT
END:VCALENDAR