BEGIN:VCALENDAR
VERSION:2.0
PRODID:-//Florida NY Chamber - ECPv6.15.20//NONSGML v1.0//EN
CALSCALE:GREGORIAN
METHOD:PUBLISH
X-WR-CALNAME:Florida NY Chamber
X-ORIGINAL-URL:https://floridanychamber.com
X-WR-CALDESC:Events for Florida NY Chamber
REFRESH-INTERVAL;VALUE=DURATION:PT1H
X-Robots-Tag:noindex
X-PUBLISHED-TTL:PT1H
BEGIN:VTIMEZONE
TZID:America/New_York
BEGIN:DAYLIGHT
TZOFFSETFROM:-0500
TZOFFSETTO:-0400
TZNAME:EDT
DTSTART:20280312T070000
END:DAYLIGHT
BEGIN:STANDARD
TZOFFSETFROM:-0400
TZOFFSETTO:-0500
TZNAME:EST
DTSTART:20281105T060000
END:STANDARD
BEGIN:DAYLIGHT
TZOFFSETFROM:-0500
TZOFFSETTO:-0400
TZNAME:EDT
DTSTART:20290311T070000
END:DAYLIGHT
BEGIN:STANDARD
TZOFFSETFROM:-0400
TZOFFSETTO:-0500
TZNAME:EST
DTSTART:20291104T060000
END:STANDARD
BEGIN:DAYLIGHT
TZOFFSETFROM:-0500
TZOFFSETTO:-0400
TZNAME:EDT
DTSTART:20300310T070000
END:DAYLIGHT
BEGIN:STANDARD
TZOFFSETFROM:-0400
TZOFFSETTO:-0500
TZNAME:EST
DTSTART:20301103T060000
END:STANDARD
END:VTIMEZONE
BEGIN:VEVENT
DTSTART;TZID=America/New_York:20290216T203000
DTEND;TZID=America/New_York:20290216T233000
DTSTAMP:20260422T051558
CREATED:20250429T224136Z
LAST-MODIFIED:20250429T224136Z
UID:10001450-1865968200-1865979000@floridanychamber.com
SUMMARY:Live at Barrel 28
DESCRIPTION:
URL:https://floridanychamber.com/event/live-at-barrel-28/2029-02-16
LOCATION:Barrel 28\, 28 North Main Street\, Florida\, NY\, 10921
CATEGORIES:Live Music
ATTACH;FMTTYPE=image/jpeg:https://floridanychamber.com/wp-content/uploads/2025/04/492920215_988377616818081_1780179259162028801_n.jpg
END:VEVENT
BEGIN:VEVENT
DTSTART;TZID=America/New_York:20290217T190000
DTEND;TZID=America/New_York:20290217T210000
DTSTAMP:20260422T051558
CREATED:20260419T225806Z
LAST-MODIFIED:20260419T225806Z
UID:10002990-1866049200-1866056400@floridanychamber.com
SUMMARY:Open Mike Night at Edenville General Store
DESCRIPTION:
URL:https://floridanychamber.com/event/open-mike-night-at-edenville-general-store/2029-02-17
CATEGORIES:Edenville Event,Live Music
ATTACH;FMTTYPE=image/jpeg:https://floridanychamber.com/wp-content/uploads/2025/10/edenville.jpg
END:VEVENT
BEGIN:VEVENT
DTSTART;TZID=America/New_York:20290217T203000
DTEND;TZID=America/New_York:20290217T233000
DTSTAMP:20260422T051558
CREATED:20250429T224229Z
LAST-MODIFIED:20250429T224229Z
UID:10001908-1866054600-1866065400@floridanychamber.com
SUMMARY:Live at Barrel 28
DESCRIPTION:
URL:https://floridanychamber.com/event/live-at-barrel-28-2/2029-02-17
CATEGORIES:Live Music
ATTACH;FMTTYPE=image/jpeg:https://floridanychamber.com/wp-content/uploads/2025/04/492920215_988377616818081_1780179259162028801_n.jpg
END:VEVENT
BEGIN:VEVENT
DTSTART;TZID=America/New_York:20290218T203000
DTEND;TZID=America/New_York:20290218T233000
DTSTAMP:20260422T051558
CREATED:20250429T224229Z
LAST-MODIFIED:20250429T224229Z
UID:10001909-1866141000-1866151800@floridanychamber.com
SUMMARY:Live at Barrel 28
DESCRIPTION:
URL:https://floridanychamber.com/event/live-at-barrel-28-2/2029-02-18
CATEGORIES:Live Music
ATTACH;FMTTYPE=image/jpeg:https://floridanychamber.com/wp-content/uploads/2025/04/492920215_988377616818081_1780179259162028801_n.jpg
END:VEVENT
BEGIN:VEVENT
DTSTART;TZID=America/New_York:20290223T203000
DTEND;TZID=America/New_York:20290223T233000
DTSTAMP:20260422T051558
CREATED:20250429T224136Z
LAST-MODIFIED:20250429T224136Z
UID:10001451-1866573000-1866583800@floridanychamber.com
SUMMARY:Live at Barrel 28
DESCRIPTION:
URL:https://floridanychamber.com/event/live-at-barrel-28/2029-02-23
LOCATION:Barrel 28\, 28 North Main Street\, Florida\, NY\, 10921
CATEGORIES:Live Music
ATTACH;FMTTYPE=image/jpeg:https://floridanychamber.com/wp-content/uploads/2025/04/492920215_988377616818081_1780179259162028801_n.jpg
END:VEVENT
BEGIN:VEVENT
DTSTART;TZID=America/New_York:20290224T190000
DTEND;TZID=America/New_York:20290224T210000
DTSTAMP:20260422T051558
CREATED:20260419T225806Z
LAST-MODIFIED:20260419T225806Z
UID:10002991-1866654000-1866661200@floridanychamber.com
SUMMARY:Open Mike Night at Edenville General Store
DESCRIPTION:
URL:https://floridanychamber.com/event/open-mike-night-at-edenville-general-store/2029-02-24
CATEGORIES:Edenville Event,Live Music
ATTACH;FMTTYPE=image/jpeg:https://floridanychamber.com/wp-content/uploads/2025/10/edenville.jpg
END:VEVENT
BEGIN:VEVENT
DTSTART;TZID=America/New_York:20290224T203000
DTEND;TZID=America/New_York:20290224T233000
DTSTAMP:20260422T051558
CREATED:20250429T224229Z
LAST-MODIFIED:20250429T224229Z
UID:10001910-1866659400-1866670200@floridanychamber.com
SUMMARY:Live at Barrel 28
DESCRIPTION:
URL:https://floridanychamber.com/event/live-at-barrel-28-2/2029-02-24
CATEGORIES:Live Music
ATTACH;FMTTYPE=image/jpeg:https://floridanychamber.com/wp-content/uploads/2025/04/492920215_988377616818081_1780179259162028801_n.jpg
END:VEVENT
BEGIN:VEVENT
DTSTART;TZID=America/New_York:20290225T203000
DTEND;TZID=America/New_York:20290225T233000
DTSTAMP:20260422T051558
CREATED:20250429T224229Z
LAST-MODIFIED:20250429T224229Z
UID:10001911-1866745800-1866756600@floridanychamber.com
SUMMARY:Live at Barrel 28
DESCRIPTION:
URL:https://floridanychamber.com/event/live-at-barrel-28-2/2029-02-25
CATEGORIES:Live Music
ATTACH;FMTTYPE=image/jpeg:https://floridanychamber.com/wp-content/uploads/2025/04/492920215_988377616818081_1780179259162028801_n.jpg
END:VEVENT
BEGIN:VEVENT
DTSTART;TZID=America/New_York:20290302T203000
DTEND;TZID=America/New_York:20290302T233000
DTSTAMP:20260422T051558
CREATED:20250429T224136Z
LAST-MODIFIED:20250429T224136Z
UID:10001452-1867177800-1867188600@floridanychamber.com
SUMMARY:Live at Barrel 28
DESCRIPTION:
URL:https://floridanychamber.com/event/live-at-barrel-28/2029-03-02
LOCATION:Barrel 28\, 28 North Main Street\, Florida\, NY\, 10921
CATEGORIES:Live Music
ATTACH;FMTTYPE=image/jpeg:https://floridanychamber.com/wp-content/uploads/2025/04/492920215_988377616818081_1780179259162028801_n.jpg
END:VEVENT
BEGIN:VEVENT
DTSTART;TZID=America/New_York:20290303T190000
DTEND;TZID=America/New_York:20290303T210000
DTSTAMP:20260422T051558
CREATED:20260419T225806Z
LAST-MODIFIED:20260419T225806Z
UID:10002992-1867258800-1867266000@floridanychamber.com
SUMMARY:Open Mike Night at Edenville General Store
DESCRIPTION:
URL:https://floridanychamber.com/event/open-mike-night-at-edenville-general-store/2029-03-03
CATEGORIES:Edenville Event,Live Music
ATTACH;FMTTYPE=image/jpeg:https://floridanychamber.com/wp-content/uploads/2025/10/edenville.jpg
END:VEVENT
BEGIN:VEVENT
DTSTART;TZID=America/New_York:20290303T203000
DTEND;TZID=America/New_York:20290303T233000
DTSTAMP:20260422T051558
CREATED:20250429T224229Z
LAST-MODIFIED:20250429T224229Z
UID:10001912-1867264200-1867275000@floridanychamber.com
SUMMARY:Live at Barrel 28
DESCRIPTION:
URL:https://floridanychamber.com/event/live-at-barrel-28-2/2029-03-03
CATEGORIES:Live Music
ATTACH;FMTTYPE=image/jpeg:https://floridanychamber.com/wp-content/uploads/2025/04/492920215_988377616818081_1780179259162028801_n.jpg
END:VEVENT
BEGIN:VEVENT
DTSTART;TZID=America/New_York:20290304T203000
DTEND;TZID=America/New_York:20290304T233000
DTSTAMP:20260422T051558
CREATED:20250429T224229Z
LAST-MODIFIED:20250429T224229Z
UID:10001913-1867350600-1867361400@floridanychamber.com
SUMMARY:Live at Barrel 28
DESCRIPTION:
URL:https://floridanychamber.com/event/live-at-barrel-28-2/2029-03-04
CATEGORIES:Live Music
ATTACH;FMTTYPE=image/jpeg:https://floridanychamber.com/wp-content/uploads/2025/04/492920215_988377616818081_1780179259162028801_n.jpg
END:VEVENT
BEGIN:VEVENT
DTSTART;TZID=America/New_York:20290309T203000
DTEND;TZID=America/New_York:20290309T233000
DTSTAMP:20260422T051558
CREATED:20250429T224136Z
LAST-MODIFIED:20250429T224136Z
UID:10001453-1867782600-1867793400@floridanychamber.com
SUMMARY:Live at Barrel 28
DESCRIPTION:
URL:https://floridanychamber.com/event/live-at-barrel-28/2029-03-09
LOCATION:Barrel 28\, 28 North Main Street\, Florida\, NY\, 10921
CATEGORIES:Live Music
ATTACH;FMTTYPE=image/jpeg:https://floridanychamber.com/wp-content/uploads/2025/04/492920215_988377616818081_1780179259162028801_n.jpg
END:VEVENT
BEGIN:VEVENT
DTSTART;TZID=America/New_York:20290310T190000
DTEND;TZID=America/New_York:20290310T210000
DTSTAMP:20260422T051558
CREATED:20260419T225806Z
LAST-MODIFIED:20260419T225806Z
UID:10002993-1867863600-1867870800@floridanychamber.com
SUMMARY:Open Mike Night at Edenville General Store
DESCRIPTION:
URL:https://floridanychamber.com/event/open-mike-night-at-edenville-general-store/2029-03-10
CATEGORIES:Edenville Event,Live Music
ATTACH;FMTTYPE=image/jpeg:https://floridanychamber.com/wp-content/uploads/2025/10/edenville.jpg
END:VEVENT
BEGIN:VEVENT
DTSTART;TZID=America/New_York:20290310T203000
DTEND;TZID=America/New_York:20290310T233000
DTSTAMP:20260422T051558
CREATED:20250429T224229Z
LAST-MODIFIED:20250429T224229Z
UID:10001914-1867869000-1867879800@floridanychamber.com
SUMMARY:Live at Barrel 28
DESCRIPTION:
URL:https://floridanychamber.com/event/live-at-barrel-28-2/2029-03-10
CATEGORIES:Live Music
ATTACH;FMTTYPE=image/jpeg:https://floridanychamber.com/wp-content/uploads/2025/04/492920215_988377616818081_1780179259162028801_n.jpg
END:VEVENT
BEGIN:VEVENT
DTSTART;TZID=America/New_York:20290311T203000
DTEND;TZID=America/New_York:20290311T233000
DTSTAMP:20260422T051558
CREATED:20250429T224229Z
LAST-MODIFIED:20250429T224229Z
UID:10001915-1867955400-1867966200@floridanychamber.com
SUMMARY:Live at Barrel 28
DESCRIPTION:
URL:https://floridanychamber.com/event/live-at-barrel-28-2/2029-03-11
CATEGORIES:Live Music
ATTACH;FMTTYPE=image/jpeg:https://floridanychamber.com/wp-content/uploads/2025/04/492920215_988377616818081_1780179259162028801_n.jpg
END:VEVENT
BEGIN:VEVENT
DTSTART;TZID=America/New_York:20290316T203000
DTEND;TZID=America/New_York:20290316T233000
DTSTAMP:20260422T051558
CREATED:20250429T224136Z
LAST-MODIFIED:20250429T224136Z
UID:10001454-1868387400-1868398200@floridanychamber.com
SUMMARY:Live at Barrel 28
DESCRIPTION:
URL:https://floridanychamber.com/event/live-at-barrel-28/2029-03-16
LOCATION:Barrel 28\, 28 North Main Street\, Florida\, NY\, 10921
CATEGORIES:Live Music
ATTACH;FMTTYPE=image/jpeg:https://floridanychamber.com/wp-content/uploads/2025/04/492920215_988377616818081_1780179259162028801_n.jpg
END:VEVENT
BEGIN:VEVENT
DTSTART;TZID=America/New_York:20290317T190000
DTEND;TZID=America/New_York:20290317T210000
DTSTAMP:20260422T051558
CREATED:20260419T225806Z
LAST-MODIFIED:20260419T225806Z
UID:10002994-1868468400-1868475600@floridanychamber.com
SUMMARY:Open Mike Night at Edenville General Store
DESCRIPTION:
URL:https://floridanychamber.com/event/open-mike-night-at-edenville-general-store/2029-03-17
CATEGORIES:Edenville Event,Live Music
ATTACH;FMTTYPE=image/jpeg:https://floridanychamber.com/wp-content/uploads/2025/10/edenville.jpg
END:VEVENT
BEGIN:VEVENT
DTSTART;TZID=America/New_York:20290317T203000
DTEND;TZID=America/New_York:20290317T233000
DTSTAMP:20260422T051558
CREATED:20250429T224229Z
LAST-MODIFIED:20250429T224229Z
UID:10001916-1868473800-1868484600@floridanychamber.com
SUMMARY:Live at Barrel 28
DESCRIPTION:
URL:https://floridanychamber.com/event/live-at-barrel-28-2/2029-03-17
CATEGORIES:Live Music
ATTACH;FMTTYPE=image/jpeg:https://floridanychamber.com/wp-content/uploads/2025/04/492920215_988377616818081_1780179259162028801_n.jpg
END:VEVENT
BEGIN:VEVENT
DTSTART;TZID=America/New_York:20290318T203000
DTEND;TZID=America/New_York:20290318T233000
DTSTAMP:20260422T051558
CREATED:20250429T224229Z
LAST-MODIFIED:20250429T224229Z
UID:10001917-1868560200-1868571000@floridanychamber.com
SUMMARY:Live at Barrel 28
DESCRIPTION:
URL:https://floridanychamber.com/event/live-at-barrel-28-2/2029-03-18
CATEGORIES:Live Music
ATTACH;FMTTYPE=image/jpeg:https://floridanychamber.com/wp-content/uploads/2025/04/492920215_988377616818081_1780179259162028801_n.jpg
END:VEVENT
BEGIN:VEVENT
DTSTART;TZID=America/New_York:20290323T203000
DTEND;TZID=America/New_York:20290323T233000
DTSTAMP:20260422T051558
CREATED:20250429T224136Z
LAST-MODIFIED:20250429T224136Z
UID:10001455-1868992200-1869003000@floridanychamber.com
SUMMARY:Live at Barrel 28
DESCRIPTION:
URL:https://floridanychamber.com/event/live-at-barrel-28/2029-03-23
LOCATION:Barrel 28\, 28 North Main Street\, Florida\, NY\, 10921
CATEGORIES:Live Music
ATTACH;FMTTYPE=image/jpeg:https://floridanychamber.com/wp-content/uploads/2025/04/492920215_988377616818081_1780179259162028801_n.jpg
END:VEVENT
BEGIN:VEVENT
DTSTART;TZID=America/New_York:20290324T190000
DTEND;TZID=America/New_York:20290324T210000
DTSTAMP:20260422T051558
CREATED:20260419T225806Z
LAST-MODIFIED:20260419T225806Z
UID:10002995-1869073200-1869080400@floridanychamber.com
SUMMARY:Open Mike Night at Edenville General Store
DESCRIPTION:
URL:https://floridanychamber.com/event/open-mike-night-at-edenville-general-store/2029-03-24
CATEGORIES:Edenville Event,Live Music
ATTACH;FMTTYPE=image/jpeg:https://floridanychamber.com/wp-content/uploads/2025/10/edenville.jpg
END:VEVENT
BEGIN:VEVENT
DTSTART;TZID=America/New_York:20290324T203000
DTEND;TZID=America/New_York:20290324T233000
DTSTAMP:20260422T051558
CREATED:20250429T224229Z
LAST-MODIFIED:20250429T224229Z
UID:10001918-1869078600-1869089400@floridanychamber.com
SUMMARY:Live at Barrel 28
DESCRIPTION:
URL:https://floridanychamber.com/event/live-at-barrel-28-2/2029-03-24
CATEGORIES:Live Music
ATTACH;FMTTYPE=image/jpeg:https://floridanychamber.com/wp-content/uploads/2025/04/492920215_988377616818081_1780179259162028801_n.jpg
END:VEVENT
BEGIN:VEVENT
DTSTART;TZID=America/New_York:20290325T203000
DTEND;TZID=America/New_York:20290325T233000
DTSTAMP:20260422T051558
CREATED:20250429T224229Z
LAST-MODIFIED:20250429T224229Z
UID:10001919-1869165000-1869175800@floridanychamber.com
SUMMARY:Live at Barrel 28
DESCRIPTION:
URL:https://floridanychamber.com/event/live-at-barrel-28-2/2029-03-25
CATEGORIES:Live Music
ATTACH;FMTTYPE=image/jpeg:https://floridanychamber.com/wp-content/uploads/2025/04/492920215_988377616818081_1780179259162028801_n.jpg
END:VEVENT
BEGIN:VEVENT
DTSTART;TZID=America/New_York:20290330T203000
DTEND;TZID=America/New_York:20290330T233000
DTSTAMP:20260422T051558
CREATED:20250429T224136Z
LAST-MODIFIED:20250429T224136Z
UID:10001456-1869597000-1869607800@floridanychamber.com
SUMMARY:Live at Barrel 28
DESCRIPTION:
URL:https://floridanychamber.com/event/live-at-barrel-28/2029-03-30
LOCATION:Barrel 28\, 28 North Main Street\, Florida\, NY\, 10921
CATEGORIES:Live Music
ATTACH;FMTTYPE=image/jpeg:https://floridanychamber.com/wp-content/uploads/2025/04/492920215_988377616818081_1780179259162028801_n.jpg
END:VEVENT
BEGIN:VEVENT
DTSTART;TZID=America/New_York:20290331T190000
DTEND;TZID=America/New_York:20290331T210000
DTSTAMP:20260422T051558
CREATED:20260419T225806Z
LAST-MODIFIED:20260419T225806Z
UID:10002996-1869678000-1869685200@floridanychamber.com
SUMMARY:Open Mike Night at Edenville General Store
DESCRIPTION:
URL:https://floridanychamber.com/event/open-mike-night-at-edenville-general-store/2029-03-31
CATEGORIES:Edenville Event,Live Music
ATTACH;FMTTYPE=image/jpeg:https://floridanychamber.com/wp-content/uploads/2025/10/edenville.jpg
END:VEVENT
BEGIN:VEVENT
DTSTART;TZID=America/New_York:20290331T203000
DTEND;TZID=America/New_York:20290331T233000
DTSTAMP:20260422T051558
CREATED:20250429T224229Z
LAST-MODIFIED:20250429T224229Z
UID:10001920-1869683400-1869694200@floridanychamber.com
SUMMARY:Live at Barrel 28
DESCRIPTION:
URL:https://floridanychamber.com/event/live-at-barrel-28-2/2029-03-31
CATEGORIES:Live Music
ATTACH;FMTTYPE=image/jpeg:https://floridanychamber.com/wp-content/uploads/2025/04/492920215_988377616818081_1780179259162028801_n.jpg
END:VEVENT
BEGIN:VEVENT
DTSTART;TZID=America/New_York:20290401T203000
DTEND;TZID=America/New_York:20290401T233000
DTSTAMP:20260422T051558
CREATED:20250429T224229Z
LAST-MODIFIED:20250429T224229Z
UID:10001921-1869769800-1869780600@floridanychamber.com
SUMMARY:Live at Barrel 28
DESCRIPTION:
URL:https://floridanychamber.com/event/live-at-barrel-28-2/2029-04-01
CATEGORIES:Live Music
ATTACH;FMTTYPE=image/jpeg:https://floridanychamber.com/wp-content/uploads/2025/04/492920215_988377616818081_1780179259162028801_n.jpg
END:VEVENT
BEGIN:VEVENT
DTSTART;TZID=America/New_York:20290406T203000
DTEND;TZID=America/New_York:20290406T233000
DTSTAMP:20260422T051558
CREATED:20250429T224136Z
LAST-MODIFIED:20250429T224136Z
UID:10001457-1870201800-1870212600@floridanychamber.com
SUMMARY:Live at Barrel 28
DESCRIPTION:
URL:https://floridanychamber.com/event/live-at-barrel-28/2029-04-06
LOCATION:Barrel 28\, 28 North Main Street\, Florida\, NY\, 10921
CATEGORIES:Live Music
ATTACH;FMTTYPE=image/jpeg:https://floridanychamber.com/wp-content/uploads/2025/04/492920215_988377616818081_1780179259162028801_n.jpg
END:VEVENT
BEGIN:VEVENT
DTSTART;TZID=America/New_York:20290407T190000
DTEND;TZID=America/New_York:20290407T210000
DTSTAMP:20260422T051558
CREATED:20260419T225806Z
LAST-MODIFIED:20260419T225806Z
UID:10002997-1870282800-1870290000@floridanychamber.com
SUMMARY:Open Mike Night at Edenville General Store
DESCRIPTION:
URL:https://floridanychamber.com/event/open-mike-night-at-edenville-general-store/2029-04-07
CATEGORIES:Edenville Event,Live Music
ATTACH;FMTTYPE=image/jpeg:https://floridanychamber.com/wp-content/uploads/2025/10/edenville.jpg
END:VEVENT
END:VCALENDAR