BEGIN:VCALENDAR
VERSION:2.0
PRODID:-//Florida NY Chamber - ECPv6.15.20//NONSGML v1.0//EN
CALSCALE:GREGORIAN
METHOD:PUBLISH
X-WR-CALNAME:Florida NY Chamber
X-ORIGINAL-URL:https://floridanychamber.com
X-WR-CALDESC:Events for Florida NY Chamber
REFRESH-INTERVAL;VALUE=DURATION:PT1H
X-Robots-Tag:noindex
X-PUBLISHED-TTL:PT1H
BEGIN:VTIMEZONE
TZID:America/New_York
BEGIN:DAYLIGHT
TZOFFSETFROM:-0500
TZOFFSETTO:-0400
TZNAME:EDT
DTSTART:20280312T070000
END:DAYLIGHT
BEGIN:STANDARD
TZOFFSETFROM:-0400
TZOFFSETTO:-0500
TZNAME:EST
DTSTART:20281105T060000
END:STANDARD
BEGIN:DAYLIGHT
TZOFFSETFROM:-0500
TZOFFSETTO:-0400
TZNAME:EDT
DTSTART:20290311T070000
END:DAYLIGHT
BEGIN:STANDARD
TZOFFSETFROM:-0400
TZOFFSETTO:-0500
TZNAME:EST
DTSTART:20291104T060000
END:STANDARD
BEGIN:DAYLIGHT
TZOFFSETFROM:-0500
TZOFFSETTO:-0400
TZNAME:EDT
DTSTART:20300310T070000
END:DAYLIGHT
BEGIN:STANDARD
TZOFFSETFROM:-0400
TZOFFSETTO:-0500
TZNAME:EST
DTSTART:20301103T060000
END:STANDARD
END:VTIMEZONE
BEGIN:VEVENT
DTSTART;TZID=America/New_York:20290330T203000
DTEND;TZID=America/New_York:20290330T233000
DTSTAMP:20260420T092523
CREATED:20250429T224136Z
LAST-MODIFIED:20250429T224136Z
UID:10001456-1869597000-1869607800@floridanychamber.com
SUMMARY:Live at Barrel 28
DESCRIPTION:
URL:https://floridanychamber.com/event/live-at-barrel-28/2029-03-30
LOCATION:Barrel 28\, 28 North Main Street\, Florida\, NY\, 10921
CATEGORIES:Live Music
ATTACH;FMTTYPE=image/jpeg:https://floridanychamber.com/wp-content/uploads/2025/04/492920215_988377616818081_1780179259162028801_n.jpg
END:VEVENT
BEGIN:VEVENT
DTSTART;TZID=America/New_York:20290331T190000
DTEND;TZID=America/New_York:20290331T210000
DTSTAMP:20260420T092523
CREATED:20260419T225806Z
LAST-MODIFIED:20260419T225806Z
UID:10002996-1869678000-1869685200@floridanychamber.com
SUMMARY:Open Mike Night at Edenville General Store
DESCRIPTION:
URL:https://floridanychamber.com/event/open-mike-night-at-edenville-general-store/2029-03-31
CATEGORIES:Edenville Event,Live Music
ATTACH;FMTTYPE=image/jpeg:https://floridanychamber.com/wp-content/uploads/2025/10/edenville.jpg
END:VEVENT
BEGIN:VEVENT
DTSTART;TZID=America/New_York:20290331T203000
DTEND;TZID=America/New_York:20290331T233000
DTSTAMP:20260420T092523
CREATED:20250429T224229Z
LAST-MODIFIED:20250429T224229Z
UID:10001920-1869683400-1869694200@floridanychamber.com
SUMMARY:Live at Barrel 28
DESCRIPTION:
URL:https://floridanychamber.com/event/live-at-barrel-28-2/2029-03-31
CATEGORIES:Live Music
ATTACH;FMTTYPE=image/jpeg:https://floridanychamber.com/wp-content/uploads/2025/04/492920215_988377616818081_1780179259162028801_n.jpg
END:VEVENT
BEGIN:VEVENT
DTSTART;TZID=America/New_York:20290401T203000
DTEND;TZID=America/New_York:20290401T233000
DTSTAMP:20260420T092523
CREATED:20250429T224229Z
LAST-MODIFIED:20250429T224229Z
UID:10001921-1869769800-1869780600@floridanychamber.com
SUMMARY:Live at Barrel 28
DESCRIPTION:
URL:https://floridanychamber.com/event/live-at-barrel-28-2/2029-04-01
CATEGORIES:Live Music
ATTACH;FMTTYPE=image/jpeg:https://floridanychamber.com/wp-content/uploads/2025/04/492920215_988377616818081_1780179259162028801_n.jpg
END:VEVENT
BEGIN:VEVENT
DTSTART;TZID=America/New_York:20290406T203000
DTEND;TZID=America/New_York:20290406T233000
DTSTAMP:20260420T092523
CREATED:20250429T224136Z
LAST-MODIFIED:20250429T224136Z
UID:10001457-1870201800-1870212600@floridanychamber.com
SUMMARY:Live at Barrel 28
DESCRIPTION:
URL:https://floridanychamber.com/event/live-at-barrel-28/2029-04-06
LOCATION:Barrel 28\, 28 North Main Street\, Florida\, NY\, 10921
CATEGORIES:Live Music
ATTACH;FMTTYPE=image/jpeg:https://floridanychamber.com/wp-content/uploads/2025/04/492920215_988377616818081_1780179259162028801_n.jpg
END:VEVENT
BEGIN:VEVENT
DTSTART;TZID=America/New_York:20290407T190000
DTEND;TZID=America/New_York:20290407T210000
DTSTAMP:20260420T092523
CREATED:20260419T225806Z
LAST-MODIFIED:20260419T225806Z
UID:10002997-1870282800-1870290000@floridanychamber.com
SUMMARY:Open Mike Night at Edenville General Store
DESCRIPTION:
URL:https://floridanychamber.com/event/open-mike-night-at-edenville-general-store/2029-04-07
CATEGORIES:Edenville Event,Live Music
ATTACH;FMTTYPE=image/jpeg:https://floridanychamber.com/wp-content/uploads/2025/10/edenville.jpg
END:VEVENT
BEGIN:VEVENT
DTSTART;TZID=America/New_York:20290407T203000
DTEND;TZID=America/New_York:20290407T233000
DTSTAMP:20260420T092523
CREATED:20250429T224229Z
LAST-MODIFIED:20250429T224229Z
UID:10001922-1870288200-1870299000@floridanychamber.com
SUMMARY:Live at Barrel 28
DESCRIPTION:
URL:https://floridanychamber.com/event/live-at-barrel-28-2/2029-04-07
CATEGORIES:Live Music
ATTACH;FMTTYPE=image/jpeg:https://floridanychamber.com/wp-content/uploads/2025/04/492920215_988377616818081_1780179259162028801_n.jpg
END:VEVENT
BEGIN:VEVENT
DTSTART;TZID=America/New_York:20290408T203000
DTEND;TZID=America/New_York:20290408T233000
DTSTAMP:20260420T092523
CREATED:20250429T224229Z
LAST-MODIFIED:20250429T224229Z
UID:10001923-1870374600-1870385400@floridanychamber.com
SUMMARY:Live at Barrel 28
DESCRIPTION:
URL:https://floridanychamber.com/event/live-at-barrel-28-2/2029-04-08
CATEGORIES:Live Music
ATTACH;FMTTYPE=image/jpeg:https://floridanychamber.com/wp-content/uploads/2025/04/492920215_988377616818081_1780179259162028801_n.jpg
END:VEVENT
BEGIN:VEVENT
DTSTART;TZID=America/New_York:20290413T203000
DTEND;TZID=America/New_York:20290413T233000
DTSTAMP:20260420T092523
CREATED:20250429T224136Z
LAST-MODIFIED:20250429T224136Z
UID:10001458-1870806600-1870817400@floridanychamber.com
SUMMARY:Live at Barrel 28
DESCRIPTION:
URL:https://floridanychamber.com/event/live-at-barrel-28/2029-04-13
LOCATION:Barrel 28\, 28 North Main Street\, Florida\, NY\, 10921
CATEGORIES:Live Music
ATTACH;FMTTYPE=image/jpeg:https://floridanychamber.com/wp-content/uploads/2025/04/492920215_988377616818081_1780179259162028801_n.jpg
END:VEVENT
BEGIN:VEVENT
DTSTART;TZID=America/New_York:20290414T190000
DTEND;TZID=America/New_York:20290414T210000
DTSTAMP:20260420T092523
CREATED:20260419T225806Z
LAST-MODIFIED:20260419T225806Z
UID:10002998-1870887600-1870894800@floridanychamber.com
SUMMARY:Open Mike Night at Edenville General Store
DESCRIPTION:
URL:https://floridanychamber.com/event/open-mike-night-at-edenville-general-store/2029-04-14
CATEGORIES:Edenville Event,Live Music
ATTACH;FMTTYPE=image/jpeg:https://floridanychamber.com/wp-content/uploads/2025/10/edenville.jpg
END:VEVENT
BEGIN:VEVENT
DTSTART;TZID=America/New_York:20290414T203000
DTEND;TZID=America/New_York:20290414T233000
DTSTAMP:20260420T092523
CREATED:20250429T224229Z
LAST-MODIFIED:20250429T224229Z
UID:10001924-1870893000-1870903800@floridanychamber.com
SUMMARY:Live at Barrel 28
DESCRIPTION:
URL:https://floridanychamber.com/event/live-at-barrel-28-2/2029-04-14
CATEGORIES:Live Music
ATTACH;FMTTYPE=image/jpeg:https://floridanychamber.com/wp-content/uploads/2025/04/492920215_988377616818081_1780179259162028801_n.jpg
END:VEVENT
BEGIN:VEVENT
DTSTART;TZID=America/New_York:20290415T203000
DTEND;TZID=America/New_York:20290415T233000
DTSTAMP:20260420T092523
CREATED:20250429T224229Z
LAST-MODIFIED:20250429T224229Z
UID:10001925-1870979400-1870990200@floridanychamber.com
SUMMARY:Live at Barrel 28
DESCRIPTION:
URL:https://floridanychamber.com/event/live-at-barrel-28-2/2029-04-15
CATEGORIES:Live Music
ATTACH;FMTTYPE=image/jpeg:https://floridanychamber.com/wp-content/uploads/2025/04/492920215_988377616818081_1780179259162028801_n.jpg
END:VEVENT
BEGIN:VEVENT
DTSTART;TZID=America/New_York:20290420T203000
DTEND;TZID=America/New_York:20290420T233000
DTSTAMP:20260420T092523
CREATED:20250429T224136Z
LAST-MODIFIED:20250429T224136Z
UID:10001459-1871411400-1871422200@floridanychamber.com
SUMMARY:Live at Barrel 28
DESCRIPTION:
URL:https://floridanychamber.com/event/live-at-barrel-28/2029-04-20
LOCATION:Barrel 28\, 28 North Main Street\, Florida\, NY\, 10921
CATEGORIES:Live Music
ATTACH;FMTTYPE=image/jpeg:https://floridanychamber.com/wp-content/uploads/2025/04/492920215_988377616818081_1780179259162028801_n.jpg
END:VEVENT
BEGIN:VEVENT
DTSTART;TZID=America/New_York:20290421T190000
DTEND;TZID=America/New_York:20290421T210000
DTSTAMP:20260420T092523
CREATED:20260419T225806Z
LAST-MODIFIED:20260419T225806Z
UID:10002999-1871492400-1871499600@floridanychamber.com
SUMMARY:Open Mike Night at Edenville General Store
DESCRIPTION:
URL:https://floridanychamber.com/event/open-mike-night-at-edenville-general-store/2029-04-21
CATEGORIES:Edenville Event,Live Music
ATTACH;FMTTYPE=image/jpeg:https://floridanychamber.com/wp-content/uploads/2025/10/edenville.jpg
END:VEVENT
BEGIN:VEVENT
DTSTART;TZID=America/New_York:20290421T203000
DTEND;TZID=America/New_York:20290421T233000
DTSTAMP:20260420T092523
CREATED:20250429T224229Z
LAST-MODIFIED:20250429T224229Z
UID:10001926-1871497800-1871508600@floridanychamber.com
SUMMARY:Live at Barrel 28
DESCRIPTION:
URL:https://floridanychamber.com/event/live-at-barrel-28-2/2029-04-21
CATEGORIES:Live Music
ATTACH;FMTTYPE=image/jpeg:https://floridanychamber.com/wp-content/uploads/2025/04/492920215_988377616818081_1780179259162028801_n.jpg
END:VEVENT
BEGIN:VEVENT
DTSTART;TZID=America/New_York:20290422T203000
DTEND;TZID=America/New_York:20290422T233000
DTSTAMP:20260420T092523
CREATED:20250429T224229Z
LAST-MODIFIED:20250429T224229Z
UID:10001927-1871584200-1871595000@floridanychamber.com
SUMMARY:Live at Barrel 28
DESCRIPTION:
URL:https://floridanychamber.com/event/live-at-barrel-28-2/2029-04-22
CATEGORIES:Live Music
ATTACH;FMTTYPE=image/jpeg:https://floridanychamber.com/wp-content/uploads/2025/04/492920215_988377616818081_1780179259162028801_n.jpg
END:VEVENT
BEGIN:VEVENT
DTSTART;TZID=America/New_York:20290427T203000
DTEND;TZID=America/New_York:20290427T233000
DTSTAMP:20260420T092523
CREATED:20250429T224136Z
LAST-MODIFIED:20250429T224136Z
UID:10001460-1872016200-1872027000@floridanychamber.com
SUMMARY:Live at Barrel 28
DESCRIPTION:
URL:https://floridanychamber.com/event/live-at-barrel-28/2029-04-27
LOCATION:Barrel 28\, 28 North Main Street\, Florida\, NY\, 10921
CATEGORIES:Live Music
ATTACH;FMTTYPE=image/jpeg:https://floridanychamber.com/wp-content/uploads/2025/04/492920215_988377616818081_1780179259162028801_n.jpg
END:VEVENT
BEGIN:VEVENT
DTSTART;TZID=America/New_York:20290428T190000
DTEND;TZID=America/New_York:20290428T210000
DTSTAMP:20260420T092523
CREATED:20260419T225806Z
LAST-MODIFIED:20260419T225806Z
UID:10003000-1872097200-1872104400@floridanychamber.com
SUMMARY:Open Mike Night at Edenville General Store
DESCRIPTION:
URL:https://floridanychamber.com/event/open-mike-night-at-edenville-general-store/2029-04-28
CATEGORIES:Edenville Event,Live Music
ATTACH;FMTTYPE=image/jpeg:https://floridanychamber.com/wp-content/uploads/2025/10/edenville.jpg
END:VEVENT
BEGIN:VEVENT
DTSTART;TZID=America/New_York:20290428T203000
DTEND;TZID=America/New_York:20290428T233000
DTSTAMP:20260420T092523
CREATED:20250429T224229Z
LAST-MODIFIED:20250429T224229Z
UID:10001928-1872102600-1872113400@floridanychamber.com
SUMMARY:Live at Barrel 28
DESCRIPTION:
URL:https://floridanychamber.com/event/live-at-barrel-28-2/2029-04-28
CATEGORIES:Live Music
ATTACH;FMTTYPE=image/jpeg:https://floridanychamber.com/wp-content/uploads/2025/04/492920215_988377616818081_1780179259162028801_n.jpg
END:VEVENT
BEGIN:VEVENT
DTSTART;TZID=America/New_York:20290429T203000
DTEND;TZID=America/New_York:20290429T233000
DTSTAMP:20260420T092523
CREATED:20250429T224229Z
LAST-MODIFIED:20250429T224229Z
UID:10001929-1872189000-1872199800@floridanychamber.com
SUMMARY:Live at Barrel 28
DESCRIPTION:
URL:https://floridanychamber.com/event/live-at-barrel-28-2/2029-04-29
CATEGORIES:Live Music
ATTACH;FMTTYPE=image/jpeg:https://floridanychamber.com/wp-content/uploads/2025/04/492920215_988377616818081_1780179259162028801_n.jpg
END:VEVENT
BEGIN:VEVENT
DTSTART;TZID=America/New_York:20290504T203000
DTEND;TZID=America/New_York:20290504T233000
DTSTAMP:20260420T092523
CREATED:20250429T224136Z
LAST-MODIFIED:20250429T224136Z
UID:10001461-1872621000-1872631800@floridanychamber.com
SUMMARY:Live at Barrel 28
DESCRIPTION:
URL:https://floridanychamber.com/event/live-at-barrel-28/2029-05-04
LOCATION:Barrel 28\, 28 North Main Street\, Florida\, NY\, 10921
CATEGORIES:Live Music
ATTACH;FMTTYPE=image/jpeg:https://floridanychamber.com/wp-content/uploads/2025/04/492920215_988377616818081_1780179259162028801_n.jpg
END:VEVENT
BEGIN:VEVENT
DTSTART;TZID=America/New_York:20290505T190000
DTEND;TZID=America/New_York:20290505T210000
DTSTAMP:20260420T092523
CREATED:20260419T225806Z
LAST-MODIFIED:20260419T225806Z
UID:10003001-1872702000-1872709200@floridanychamber.com
SUMMARY:Open Mike Night at Edenville General Store
DESCRIPTION:
URL:https://floridanychamber.com/event/open-mike-night-at-edenville-general-store/2029-05-05
CATEGORIES:Edenville Event,Live Music
ATTACH;FMTTYPE=image/jpeg:https://floridanychamber.com/wp-content/uploads/2025/10/edenville.jpg
END:VEVENT
BEGIN:VEVENT
DTSTART;TZID=America/New_York:20290505T203000
DTEND;TZID=America/New_York:20290505T233000
DTSTAMP:20260420T092523
CREATED:20250429T224229Z
LAST-MODIFIED:20250429T224229Z
UID:10001930-1872707400-1872718200@floridanychamber.com
SUMMARY:Live at Barrel 28
DESCRIPTION:
URL:https://floridanychamber.com/event/live-at-barrel-28-2/2029-05-05
CATEGORIES:Live Music
ATTACH;FMTTYPE=image/jpeg:https://floridanychamber.com/wp-content/uploads/2025/04/492920215_988377616818081_1780179259162028801_n.jpg
END:VEVENT
BEGIN:VEVENT
DTSTART;TZID=America/New_York:20290506T203000
DTEND;TZID=America/New_York:20290506T233000
DTSTAMP:20260420T092523
CREATED:20250429T224229Z
LAST-MODIFIED:20250429T224229Z
UID:10001931-1872793800-1872804600@floridanychamber.com
SUMMARY:Live at Barrel 28
DESCRIPTION:
URL:https://floridanychamber.com/event/live-at-barrel-28-2/2029-05-06
CATEGORIES:Live Music
ATTACH;FMTTYPE=image/jpeg:https://floridanychamber.com/wp-content/uploads/2025/04/492920215_988377616818081_1780179259162028801_n.jpg
END:VEVENT
BEGIN:VEVENT
DTSTART;TZID=America/New_York:20290511T203000
DTEND;TZID=America/New_York:20290511T233000
DTSTAMP:20260420T092523
CREATED:20250429T224136Z
LAST-MODIFIED:20250429T224136Z
UID:10001462-1873225800-1873236600@floridanychamber.com
SUMMARY:Live at Barrel 28
DESCRIPTION:
URL:https://floridanychamber.com/event/live-at-barrel-28/2029-05-11
LOCATION:Barrel 28\, 28 North Main Street\, Florida\, NY\, 10921
CATEGORIES:Live Music
ATTACH;FMTTYPE=image/jpeg:https://floridanychamber.com/wp-content/uploads/2025/04/492920215_988377616818081_1780179259162028801_n.jpg
END:VEVENT
BEGIN:VEVENT
DTSTART;TZID=America/New_York:20290512T190000
DTEND;TZID=America/New_York:20290512T210000
DTSTAMP:20260420T092523
CREATED:20260419T225806Z
LAST-MODIFIED:20260419T225806Z
UID:10003002-1873306800-1873314000@floridanychamber.com
SUMMARY:Open Mike Night at Edenville General Store
DESCRIPTION:
URL:https://floridanychamber.com/event/open-mike-night-at-edenville-general-store/2029-05-12
CATEGORIES:Edenville Event,Live Music
ATTACH;FMTTYPE=image/jpeg:https://floridanychamber.com/wp-content/uploads/2025/10/edenville.jpg
END:VEVENT
BEGIN:VEVENT
DTSTART;TZID=America/New_York:20290512T203000
DTEND;TZID=America/New_York:20290512T233000
DTSTAMP:20260420T092523
CREATED:20250429T224229Z
LAST-MODIFIED:20250429T224229Z
UID:10001932-1873312200-1873323000@floridanychamber.com
SUMMARY:Live at Barrel 28
DESCRIPTION:
URL:https://floridanychamber.com/event/live-at-barrel-28-2/2029-05-12
CATEGORIES:Live Music
ATTACH;FMTTYPE=image/jpeg:https://floridanychamber.com/wp-content/uploads/2025/04/492920215_988377616818081_1780179259162028801_n.jpg
END:VEVENT
BEGIN:VEVENT
DTSTART;TZID=America/New_York:20290513T203000
DTEND;TZID=America/New_York:20290513T233000
DTSTAMP:20260420T092523
CREATED:20250429T224229Z
LAST-MODIFIED:20250429T224229Z
UID:10001933-1873398600-1873409400@floridanychamber.com
SUMMARY:Live at Barrel 28
DESCRIPTION:
URL:https://floridanychamber.com/event/live-at-barrel-28-2/2029-05-13
CATEGORIES:Live Music
ATTACH;FMTTYPE=image/jpeg:https://floridanychamber.com/wp-content/uploads/2025/04/492920215_988377616818081_1780179259162028801_n.jpg
END:VEVENT
BEGIN:VEVENT
DTSTART;TZID=America/New_York:20290518T203000
DTEND;TZID=America/New_York:20290518T233000
DTSTAMP:20260420T092523
CREATED:20250429T224136Z
LAST-MODIFIED:20250429T224136Z
UID:10001463-1873830600-1873841400@floridanychamber.com
SUMMARY:Live at Barrel 28
DESCRIPTION:
URL:https://floridanychamber.com/event/live-at-barrel-28/2029-05-18
LOCATION:Barrel 28\, 28 North Main Street\, Florida\, NY\, 10921
CATEGORIES:Live Music
ATTACH;FMTTYPE=image/jpeg:https://floridanychamber.com/wp-content/uploads/2025/04/492920215_988377616818081_1780179259162028801_n.jpg
END:VEVENT
BEGIN:VEVENT
DTSTART;TZID=America/New_York:20290519T190000
DTEND;TZID=America/New_York:20290519T210000
DTSTAMP:20260420T092523
CREATED:20260419T225806Z
LAST-MODIFIED:20260419T225806Z
UID:10003003-1873911600-1873918800@floridanychamber.com
SUMMARY:Open Mike Night at Edenville General Store
DESCRIPTION:
URL:https://floridanychamber.com/event/open-mike-night-at-edenville-general-store/2029-05-19
CATEGORIES:Edenville Event,Live Music
ATTACH;FMTTYPE=image/jpeg:https://floridanychamber.com/wp-content/uploads/2025/10/edenville.jpg
END:VEVENT
END:VCALENDAR