BEGIN:VCALENDAR
VERSION:2.0
PRODID:-//Florida NY Chamber - ECPv6.15.20//NONSGML v1.0//EN
CALSCALE:GREGORIAN
METHOD:PUBLISH
X-WR-CALNAME:Florida NY Chamber
X-ORIGINAL-URL:https://floridanychamber.com
X-WR-CALDESC:Events for Florida NY Chamber
REFRESH-INTERVAL;VALUE=DURATION:PT1H
X-Robots-Tag:noindex
X-PUBLISHED-TTL:PT1H
BEGIN:VTIMEZONE
TZID:America/New_York
BEGIN:DAYLIGHT
TZOFFSETFROM:-0500
TZOFFSETTO:-0400
TZNAME:EDT
DTSTART:20280312T070000
END:DAYLIGHT
BEGIN:STANDARD
TZOFFSETFROM:-0400
TZOFFSETTO:-0500
TZNAME:EST
DTSTART:20281105T060000
END:STANDARD
BEGIN:DAYLIGHT
TZOFFSETFROM:-0500
TZOFFSETTO:-0400
TZNAME:EDT
DTSTART:20290311T070000
END:DAYLIGHT
BEGIN:STANDARD
TZOFFSETFROM:-0400
TZOFFSETTO:-0500
TZNAME:EST
DTSTART:20291104T060000
END:STANDARD
BEGIN:DAYLIGHT
TZOFFSETFROM:-0500
TZOFFSETTO:-0400
TZNAME:EDT
DTSTART:20300310T070000
END:DAYLIGHT
BEGIN:STANDARD
TZOFFSETFROM:-0400
TZOFFSETTO:-0500
TZNAME:EST
DTSTART:20301103T060000
END:STANDARD
END:VTIMEZONE
BEGIN:VEVENT
DTSTART;TZID=America/New_York:20290511T203000
DTEND;TZID=America/New_York:20290511T233000
DTSTAMP:20260420T122613
CREATED:20250429T224136Z
LAST-MODIFIED:20250429T224136Z
UID:10001462-1873225800-1873236600@floridanychamber.com
SUMMARY:Live at Barrel 28
DESCRIPTION:
URL:https://floridanychamber.com/event/live-at-barrel-28/2029-05-11
LOCATION:Barrel 28\, 28 North Main Street\, Florida\, NY\, 10921
CATEGORIES:Live Music
ATTACH;FMTTYPE=image/jpeg:https://floridanychamber.com/wp-content/uploads/2025/04/492920215_988377616818081_1780179259162028801_n.jpg
END:VEVENT
BEGIN:VEVENT
DTSTART;TZID=America/New_York:20290512T190000
DTEND;TZID=America/New_York:20290512T210000
DTSTAMP:20260420T122613
CREATED:20260419T225806Z
LAST-MODIFIED:20260419T225806Z
UID:10003002-1873306800-1873314000@floridanychamber.com
SUMMARY:Open Mike Night at Edenville General Store
DESCRIPTION:
URL:https://floridanychamber.com/event/open-mike-night-at-edenville-general-store/2029-05-12
CATEGORIES:Edenville Event,Live Music
ATTACH;FMTTYPE=image/jpeg:https://floridanychamber.com/wp-content/uploads/2025/10/edenville.jpg
END:VEVENT
BEGIN:VEVENT
DTSTART;TZID=America/New_York:20290512T203000
DTEND;TZID=America/New_York:20290512T233000
DTSTAMP:20260420T122613
CREATED:20250429T224229Z
LAST-MODIFIED:20250429T224229Z
UID:10001932-1873312200-1873323000@floridanychamber.com
SUMMARY:Live at Barrel 28
DESCRIPTION:
URL:https://floridanychamber.com/event/live-at-barrel-28-2/2029-05-12
CATEGORIES:Live Music
ATTACH;FMTTYPE=image/jpeg:https://floridanychamber.com/wp-content/uploads/2025/04/492920215_988377616818081_1780179259162028801_n.jpg
END:VEVENT
BEGIN:VEVENT
DTSTART;TZID=America/New_York:20290513T203000
DTEND;TZID=America/New_York:20290513T233000
DTSTAMP:20260420T122613
CREATED:20250429T224229Z
LAST-MODIFIED:20250429T224229Z
UID:10001933-1873398600-1873409400@floridanychamber.com
SUMMARY:Live at Barrel 28
DESCRIPTION:
URL:https://floridanychamber.com/event/live-at-barrel-28-2/2029-05-13
CATEGORIES:Live Music
ATTACH;FMTTYPE=image/jpeg:https://floridanychamber.com/wp-content/uploads/2025/04/492920215_988377616818081_1780179259162028801_n.jpg
END:VEVENT
BEGIN:VEVENT
DTSTART;TZID=America/New_York:20290518T203000
DTEND;TZID=America/New_York:20290518T233000
DTSTAMP:20260420T122613
CREATED:20250429T224136Z
LAST-MODIFIED:20250429T224136Z
UID:10001463-1873830600-1873841400@floridanychamber.com
SUMMARY:Live at Barrel 28
DESCRIPTION:
URL:https://floridanychamber.com/event/live-at-barrel-28/2029-05-18
LOCATION:Barrel 28\, 28 North Main Street\, Florida\, NY\, 10921
CATEGORIES:Live Music
ATTACH;FMTTYPE=image/jpeg:https://floridanychamber.com/wp-content/uploads/2025/04/492920215_988377616818081_1780179259162028801_n.jpg
END:VEVENT
BEGIN:VEVENT
DTSTART;TZID=America/New_York:20290519T190000
DTEND;TZID=America/New_York:20290519T210000
DTSTAMP:20260420T122613
CREATED:20260419T225806Z
LAST-MODIFIED:20260419T225806Z
UID:10003003-1873911600-1873918800@floridanychamber.com
SUMMARY:Open Mike Night at Edenville General Store
DESCRIPTION:
URL:https://floridanychamber.com/event/open-mike-night-at-edenville-general-store/2029-05-19
CATEGORIES:Edenville Event,Live Music
ATTACH;FMTTYPE=image/jpeg:https://floridanychamber.com/wp-content/uploads/2025/10/edenville.jpg
END:VEVENT
BEGIN:VEVENT
DTSTART;TZID=America/New_York:20290519T203000
DTEND;TZID=America/New_York:20290519T233000
DTSTAMP:20260420T122613
CREATED:20250429T224229Z
LAST-MODIFIED:20250429T224229Z
UID:10001934-1873917000-1873927800@floridanychamber.com
SUMMARY:Live at Barrel 28
DESCRIPTION:
URL:https://floridanychamber.com/event/live-at-barrel-28-2/2029-05-19
CATEGORIES:Live Music
ATTACH;FMTTYPE=image/jpeg:https://floridanychamber.com/wp-content/uploads/2025/04/492920215_988377616818081_1780179259162028801_n.jpg
END:VEVENT
BEGIN:VEVENT
DTSTART;TZID=America/New_York:20290520T203000
DTEND;TZID=America/New_York:20290520T233000
DTSTAMP:20260420T122613
CREATED:20250429T224229Z
LAST-MODIFIED:20250429T224229Z
UID:10001935-1874003400-1874014200@floridanychamber.com
SUMMARY:Live at Barrel 28
DESCRIPTION:
URL:https://floridanychamber.com/event/live-at-barrel-28-2/2029-05-20
CATEGORIES:Live Music
ATTACH;FMTTYPE=image/jpeg:https://floridanychamber.com/wp-content/uploads/2025/04/492920215_988377616818081_1780179259162028801_n.jpg
END:VEVENT
BEGIN:VEVENT
DTSTART;TZID=America/New_York:20290525T203000
DTEND;TZID=America/New_York:20290525T233000
DTSTAMP:20260420T122613
CREATED:20250429T224136Z
LAST-MODIFIED:20250429T224136Z
UID:10001464-1874435400-1874446200@floridanychamber.com
SUMMARY:Live at Barrel 28
DESCRIPTION:
URL:https://floridanychamber.com/event/live-at-barrel-28/2029-05-25
LOCATION:Barrel 28\, 28 North Main Street\, Florida\, NY\, 10921
CATEGORIES:Live Music
ATTACH;FMTTYPE=image/jpeg:https://floridanychamber.com/wp-content/uploads/2025/04/492920215_988377616818081_1780179259162028801_n.jpg
END:VEVENT
BEGIN:VEVENT
DTSTART;TZID=America/New_York:20290526T190000
DTEND;TZID=America/New_York:20290526T210000
DTSTAMP:20260420T122613
CREATED:20260419T225806Z
LAST-MODIFIED:20260419T225806Z
UID:10003004-1874516400-1874523600@floridanychamber.com
SUMMARY:Open Mike Night at Edenville General Store
DESCRIPTION:
URL:https://floridanychamber.com/event/open-mike-night-at-edenville-general-store/2029-05-26
CATEGORIES:Edenville Event,Live Music
ATTACH;FMTTYPE=image/jpeg:https://floridanychamber.com/wp-content/uploads/2025/10/edenville.jpg
END:VEVENT
BEGIN:VEVENT
DTSTART;TZID=America/New_York:20290526T203000
DTEND;TZID=America/New_York:20290526T233000
DTSTAMP:20260420T122613
CREATED:20250429T224229Z
LAST-MODIFIED:20250429T224229Z
UID:10001936-1874521800-1874532600@floridanychamber.com
SUMMARY:Live at Barrel 28
DESCRIPTION:
URL:https://floridanychamber.com/event/live-at-barrel-28-2/2029-05-26
CATEGORIES:Live Music
ATTACH;FMTTYPE=image/jpeg:https://floridanychamber.com/wp-content/uploads/2025/04/492920215_988377616818081_1780179259162028801_n.jpg
END:VEVENT
BEGIN:VEVENT
DTSTART;TZID=America/New_York:20290527T203000
DTEND;TZID=America/New_York:20290527T233000
DTSTAMP:20260420T122613
CREATED:20250429T224229Z
LAST-MODIFIED:20250429T224229Z
UID:10001937-1874608200-1874619000@floridanychamber.com
SUMMARY:Live at Barrel 28
DESCRIPTION:
URL:https://floridanychamber.com/event/live-at-barrel-28-2/2029-05-27
CATEGORIES:Live Music
ATTACH;FMTTYPE=image/jpeg:https://floridanychamber.com/wp-content/uploads/2025/04/492920215_988377616818081_1780179259162028801_n.jpg
END:VEVENT
BEGIN:VEVENT
DTSTART;TZID=America/New_York:20290601T203000
DTEND;TZID=America/New_York:20290601T233000
DTSTAMP:20260420T122613
CREATED:20250429T224136Z
LAST-MODIFIED:20250429T224136Z
UID:10001465-1875040200-1875051000@floridanychamber.com
SUMMARY:Live at Barrel 28
DESCRIPTION:
URL:https://floridanychamber.com/event/live-at-barrel-28/2029-06-01
LOCATION:Barrel 28\, 28 North Main Street\, Florida\, NY\, 10921
CATEGORIES:Live Music
ATTACH;FMTTYPE=image/jpeg:https://floridanychamber.com/wp-content/uploads/2025/04/492920215_988377616818081_1780179259162028801_n.jpg
END:VEVENT
BEGIN:VEVENT
DTSTART;TZID=America/New_York:20290602T190000
DTEND;TZID=America/New_York:20290602T210000
DTSTAMP:20260420T122613
CREATED:20260419T225806Z
LAST-MODIFIED:20260419T225806Z
UID:10003005-1875121200-1875128400@floridanychamber.com
SUMMARY:Open Mike Night at Edenville General Store
DESCRIPTION:
URL:https://floridanychamber.com/event/open-mike-night-at-edenville-general-store/2029-06-02
CATEGORIES:Edenville Event,Live Music
ATTACH;FMTTYPE=image/jpeg:https://floridanychamber.com/wp-content/uploads/2025/10/edenville.jpg
END:VEVENT
BEGIN:VEVENT
DTSTART;TZID=America/New_York:20290602T203000
DTEND;TZID=America/New_York:20290602T233000
DTSTAMP:20260420T122613
CREATED:20250429T224229Z
LAST-MODIFIED:20250429T224229Z
UID:10001938-1875126600-1875137400@floridanychamber.com
SUMMARY:Live at Barrel 28
DESCRIPTION:
URL:https://floridanychamber.com/event/live-at-barrel-28-2/2029-06-02
CATEGORIES:Live Music
ATTACH;FMTTYPE=image/jpeg:https://floridanychamber.com/wp-content/uploads/2025/04/492920215_988377616818081_1780179259162028801_n.jpg
END:VEVENT
BEGIN:VEVENT
DTSTART;TZID=America/New_York:20290603T203000
DTEND;TZID=America/New_York:20290603T233000
DTSTAMP:20260420T122613
CREATED:20250429T224229Z
LAST-MODIFIED:20250429T224229Z
UID:10001939-1875213000-1875223800@floridanychamber.com
SUMMARY:Live at Barrel 28
DESCRIPTION:
URL:https://floridanychamber.com/event/live-at-barrel-28-2/2029-06-03
CATEGORIES:Live Music
ATTACH;FMTTYPE=image/jpeg:https://floridanychamber.com/wp-content/uploads/2025/04/492920215_988377616818081_1780179259162028801_n.jpg
END:VEVENT
BEGIN:VEVENT
DTSTART;TZID=America/New_York:20290608T203000
DTEND;TZID=America/New_York:20290608T233000
DTSTAMP:20260420T122613
CREATED:20250429T224136Z
LAST-MODIFIED:20250429T224136Z
UID:10001466-1875645000-1875655800@floridanychamber.com
SUMMARY:Live at Barrel 28
DESCRIPTION:
URL:https://floridanychamber.com/event/live-at-barrel-28/2029-06-08
LOCATION:Barrel 28\, 28 North Main Street\, Florida\, NY\, 10921
CATEGORIES:Live Music
ATTACH;FMTTYPE=image/jpeg:https://floridanychamber.com/wp-content/uploads/2025/04/492920215_988377616818081_1780179259162028801_n.jpg
END:VEVENT
BEGIN:VEVENT
DTSTART;TZID=America/New_York:20290609T190000
DTEND;TZID=America/New_York:20290609T210000
DTSTAMP:20260420T122613
CREATED:20260419T225806Z
LAST-MODIFIED:20260419T225806Z
UID:10003006-1875726000-1875733200@floridanychamber.com
SUMMARY:Open Mike Night at Edenville General Store
DESCRIPTION:
URL:https://floridanychamber.com/event/open-mike-night-at-edenville-general-store/2029-06-09
CATEGORIES:Edenville Event,Live Music
ATTACH;FMTTYPE=image/jpeg:https://floridanychamber.com/wp-content/uploads/2025/10/edenville.jpg
END:VEVENT
BEGIN:VEVENT
DTSTART;TZID=America/New_York:20290609T203000
DTEND;TZID=America/New_York:20290609T233000
DTSTAMP:20260420T122613
CREATED:20250429T224229Z
LAST-MODIFIED:20250429T224229Z
UID:10001940-1875731400-1875742200@floridanychamber.com
SUMMARY:Live at Barrel 28
DESCRIPTION:
URL:https://floridanychamber.com/event/live-at-barrel-28-2/2029-06-09
CATEGORIES:Live Music
ATTACH;FMTTYPE=image/jpeg:https://floridanychamber.com/wp-content/uploads/2025/04/492920215_988377616818081_1780179259162028801_n.jpg
END:VEVENT
BEGIN:VEVENT
DTSTART;TZID=America/New_York:20290610T203000
DTEND;TZID=America/New_York:20290610T233000
DTSTAMP:20260420T122613
CREATED:20250429T224229Z
LAST-MODIFIED:20250429T224229Z
UID:10001941-1875817800-1875828600@floridanychamber.com
SUMMARY:Live at Barrel 28
DESCRIPTION:
URL:https://floridanychamber.com/event/live-at-barrel-28-2/2029-06-10
CATEGORIES:Live Music
ATTACH;FMTTYPE=image/jpeg:https://floridanychamber.com/wp-content/uploads/2025/04/492920215_988377616818081_1780179259162028801_n.jpg
END:VEVENT
BEGIN:VEVENT
DTSTART;TZID=America/New_York:20290615T203000
DTEND;TZID=America/New_York:20290615T233000
DTSTAMP:20260420T122613
CREATED:20250429T224136Z
LAST-MODIFIED:20250429T224136Z
UID:10001467-1876249800-1876260600@floridanychamber.com
SUMMARY:Live at Barrel 28
DESCRIPTION:
URL:https://floridanychamber.com/event/live-at-barrel-28/2029-06-15
LOCATION:Barrel 28\, 28 North Main Street\, Florida\, NY\, 10921
CATEGORIES:Live Music
ATTACH;FMTTYPE=image/jpeg:https://floridanychamber.com/wp-content/uploads/2025/04/492920215_988377616818081_1780179259162028801_n.jpg
END:VEVENT
BEGIN:VEVENT
DTSTART;TZID=America/New_York:20290616T190000
DTEND;TZID=America/New_York:20290616T210000
DTSTAMP:20260420T122613
CREATED:20260419T225806Z
LAST-MODIFIED:20260419T225806Z
UID:10003007-1876330800-1876338000@floridanychamber.com
SUMMARY:Open Mike Night at Edenville General Store
DESCRIPTION:
URL:https://floridanychamber.com/event/open-mike-night-at-edenville-general-store/2029-06-16
CATEGORIES:Edenville Event,Live Music
ATTACH;FMTTYPE=image/jpeg:https://floridanychamber.com/wp-content/uploads/2025/10/edenville.jpg
END:VEVENT
BEGIN:VEVENT
DTSTART;TZID=America/New_York:20290616T203000
DTEND;TZID=America/New_York:20290616T233000
DTSTAMP:20260420T122613
CREATED:20250429T224229Z
LAST-MODIFIED:20250429T224229Z
UID:10001942-1876336200-1876347000@floridanychamber.com
SUMMARY:Live at Barrel 28
DESCRIPTION:
URL:https://floridanychamber.com/event/live-at-barrel-28-2/2029-06-16
CATEGORIES:Live Music
ATTACH;FMTTYPE=image/jpeg:https://floridanychamber.com/wp-content/uploads/2025/04/492920215_988377616818081_1780179259162028801_n.jpg
END:VEVENT
BEGIN:VEVENT
DTSTART;TZID=America/New_York:20290617T203000
DTEND;TZID=America/New_York:20290617T233000
DTSTAMP:20260420T122613
CREATED:20250429T224229Z
LAST-MODIFIED:20250429T224229Z
UID:10001943-1876422600-1876433400@floridanychamber.com
SUMMARY:Live at Barrel 28
DESCRIPTION:
URL:https://floridanychamber.com/event/live-at-barrel-28-2/2029-06-17
CATEGORIES:Live Music
ATTACH;FMTTYPE=image/jpeg:https://floridanychamber.com/wp-content/uploads/2025/04/492920215_988377616818081_1780179259162028801_n.jpg
END:VEVENT
BEGIN:VEVENT
DTSTART;TZID=America/New_York:20290622T203000
DTEND;TZID=America/New_York:20290622T233000
DTSTAMP:20260420T122613
CREATED:20250429T224136Z
LAST-MODIFIED:20250429T224136Z
UID:10001468-1876854600-1876865400@floridanychamber.com
SUMMARY:Live at Barrel 28
DESCRIPTION:
URL:https://floridanychamber.com/event/live-at-barrel-28/2029-06-22
LOCATION:Barrel 28\, 28 North Main Street\, Florida\, NY\, 10921
CATEGORIES:Live Music
ATTACH;FMTTYPE=image/jpeg:https://floridanychamber.com/wp-content/uploads/2025/04/492920215_988377616818081_1780179259162028801_n.jpg
END:VEVENT
BEGIN:VEVENT
DTSTART;TZID=America/New_York:20290623T190000
DTEND;TZID=America/New_York:20290623T210000
DTSTAMP:20260420T122613
CREATED:20260419T225806Z
LAST-MODIFIED:20260419T225806Z
UID:10003008-1876935600-1876942800@floridanychamber.com
SUMMARY:Open Mike Night at Edenville General Store
DESCRIPTION:
URL:https://floridanychamber.com/event/open-mike-night-at-edenville-general-store/2029-06-23
CATEGORIES:Edenville Event,Live Music
ATTACH;FMTTYPE=image/jpeg:https://floridanychamber.com/wp-content/uploads/2025/10/edenville.jpg
END:VEVENT
BEGIN:VEVENT
DTSTART;TZID=America/New_York:20290623T203000
DTEND;TZID=America/New_York:20290623T233000
DTSTAMP:20260420T122613
CREATED:20250429T224229Z
LAST-MODIFIED:20250429T224229Z
UID:10001944-1876941000-1876951800@floridanychamber.com
SUMMARY:Live at Barrel 28
DESCRIPTION:
URL:https://floridanychamber.com/event/live-at-barrel-28-2/2029-06-23
CATEGORIES:Live Music
ATTACH;FMTTYPE=image/jpeg:https://floridanychamber.com/wp-content/uploads/2025/04/492920215_988377616818081_1780179259162028801_n.jpg
END:VEVENT
BEGIN:VEVENT
DTSTART;TZID=America/New_York:20290624T203000
DTEND;TZID=America/New_York:20290624T233000
DTSTAMP:20260420T122613
CREATED:20250429T224229Z
LAST-MODIFIED:20250429T224229Z
UID:10001945-1877027400-1877038200@floridanychamber.com
SUMMARY:Live at Barrel 28
DESCRIPTION:
URL:https://floridanychamber.com/event/live-at-barrel-28-2/2029-06-24
CATEGORIES:Live Music
ATTACH;FMTTYPE=image/jpeg:https://floridanychamber.com/wp-content/uploads/2025/04/492920215_988377616818081_1780179259162028801_n.jpg
END:VEVENT
BEGIN:VEVENT
DTSTART;TZID=America/New_York:20290629T203000
DTEND;TZID=America/New_York:20290629T233000
DTSTAMP:20260420T122613
CREATED:20250429T224136Z
LAST-MODIFIED:20250429T224136Z
UID:10001469-1877459400-1877470200@floridanychamber.com
SUMMARY:Live at Barrel 28
DESCRIPTION:
URL:https://floridanychamber.com/event/live-at-barrel-28/2029-06-29
LOCATION:Barrel 28\, 28 North Main Street\, Florida\, NY\, 10921
CATEGORIES:Live Music
ATTACH;FMTTYPE=image/jpeg:https://floridanychamber.com/wp-content/uploads/2025/04/492920215_988377616818081_1780179259162028801_n.jpg
END:VEVENT
BEGIN:VEVENT
DTSTART;TZID=America/New_York:20290630T190000
DTEND;TZID=America/New_York:20290630T210000
DTSTAMP:20260420T122613
CREATED:20260419T225806Z
LAST-MODIFIED:20260419T225806Z
UID:10003009-1877540400-1877547600@floridanychamber.com
SUMMARY:Open Mike Night at Edenville General Store
DESCRIPTION:
URL:https://floridanychamber.com/event/open-mike-night-at-edenville-general-store/2029-06-30
CATEGORIES:Edenville Event,Live Music
ATTACH;FMTTYPE=image/jpeg:https://floridanychamber.com/wp-content/uploads/2025/10/edenville.jpg
END:VEVENT
END:VCALENDAR