BEGIN:VCALENDAR
VERSION:2.0
PRODID:-//Florida NY Chamber - ECPv6.15.20//NONSGML v1.0//EN
CALSCALE:GREGORIAN
METHOD:PUBLISH
X-WR-CALNAME:Florida NY Chamber
X-ORIGINAL-URL:https://floridanychamber.com
X-WR-CALDESC:Events for Florida NY Chamber
REFRESH-INTERVAL;VALUE=DURATION:PT1H
X-Robots-Tag:noindex
X-PUBLISHED-TTL:PT1H
BEGIN:VTIMEZONE
TZID:America/New_York
BEGIN:DAYLIGHT
TZOFFSETFROM:-0500
TZOFFSETTO:-0400
TZNAME:EDT
DTSTART:20280312T070000
END:DAYLIGHT
BEGIN:STANDARD
TZOFFSETFROM:-0400
TZOFFSETTO:-0500
TZNAME:EST
DTSTART:20281105T060000
END:STANDARD
BEGIN:DAYLIGHT
TZOFFSETFROM:-0500
TZOFFSETTO:-0400
TZNAME:EDT
DTSTART:20290311T070000
END:DAYLIGHT
BEGIN:STANDARD
TZOFFSETFROM:-0400
TZOFFSETTO:-0500
TZNAME:EST
DTSTART:20291104T060000
END:STANDARD
BEGIN:DAYLIGHT
TZOFFSETFROM:-0500
TZOFFSETTO:-0400
TZNAME:EDT
DTSTART:20300310T070000
END:DAYLIGHT
BEGIN:STANDARD
TZOFFSETFROM:-0400
TZOFFSETTO:-0500
TZNAME:EST
DTSTART:20301103T060000
END:STANDARD
END:VTIMEZONE
BEGIN:VEVENT
DTSTART;TZID=America/New_York:20290622T203000
DTEND;TZID=America/New_York:20290622T233000
DTSTAMP:20260420T152335
CREATED:20250429T224136Z
LAST-MODIFIED:20250429T224136Z
UID:10001468-1876854600-1876865400@floridanychamber.com
SUMMARY:Live at Barrel 28
DESCRIPTION:
URL:https://floridanychamber.com/event/live-at-barrel-28/2029-06-22
LOCATION:Barrel 28\, 28 North Main Street\, Florida\, NY\, 10921
CATEGORIES:Live Music
ATTACH;FMTTYPE=image/jpeg:https://floridanychamber.com/wp-content/uploads/2025/04/492920215_988377616818081_1780179259162028801_n.jpg
END:VEVENT
BEGIN:VEVENT
DTSTART;TZID=America/New_York:20290623T190000
DTEND;TZID=America/New_York:20290623T210000
DTSTAMP:20260420T152335
CREATED:20260419T225806Z
LAST-MODIFIED:20260419T225806Z
UID:10003008-1876935600-1876942800@floridanychamber.com
SUMMARY:Open Mike Night at Edenville General Store
DESCRIPTION:
URL:https://floridanychamber.com/event/open-mike-night-at-edenville-general-store/2029-06-23
CATEGORIES:Edenville Event,Live Music
ATTACH;FMTTYPE=image/jpeg:https://floridanychamber.com/wp-content/uploads/2025/10/edenville.jpg
END:VEVENT
BEGIN:VEVENT
DTSTART;TZID=America/New_York:20290623T203000
DTEND;TZID=America/New_York:20290623T233000
DTSTAMP:20260420T152335
CREATED:20250429T224229Z
LAST-MODIFIED:20250429T224229Z
UID:10001944-1876941000-1876951800@floridanychamber.com
SUMMARY:Live at Barrel 28
DESCRIPTION:
URL:https://floridanychamber.com/event/live-at-barrel-28-2/2029-06-23
CATEGORIES:Live Music
ATTACH;FMTTYPE=image/jpeg:https://floridanychamber.com/wp-content/uploads/2025/04/492920215_988377616818081_1780179259162028801_n.jpg
END:VEVENT
BEGIN:VEVENT
DTSTART;TZID=America/New_York:20290624T203000
DTEND;TZID=America/New_York:20290624T233000
DTSTAMP:20260420T152335
CREATED:20250429T224229Z
LAST-MODIFIED:20250429T224229Z
UID:10001945-1877027400-1877038200@floridanychamber.com
SUMMARY:Live at Barrel 28
DESCRIPTION:
URL:https://floridanychamber.com/event/live-at-barrel-28-2/2029-06-24
CATEGORIES:Live Music
ATTACH;FMTTYPE=image/jpeg:https://floridanychamber.com/wp-content/uploads/2025/04/492920215_988377616818081_1780179259162028801_n.jpg
END:VEVENT
BEGIN:VEVENT
DTSTART;TZID=America/New_York:20290629T203000
DTEND;TZID=America/New_York:20290629T233000
DTSTAMP:20260420T152335
CREATED:20250429T224136Z
LAST-MODIFIED:20250429T224136Z
UID:10001469-1877459400-1877470200@floridanychamber.com
SUMMARY:Live at Barrel 28
DESCRIPTION:
URL:https://floridanychamber.com/event/live-at-barrel-28/2029-06-29
LOCATION:Barrel 28\, 28 North Main Street\, Florida\, NY\, 10921
CATEGORIES:Live Music
ATTACH;FMTTYPE=image/jpeg:https://floridanychamber.com/wp-content/uploads/2025/04/492920215_988377616818081_1780179259162028801_n.jpg
END:VEVENT
BEGIN:VEVENT
DTSTART;TZID=America/New_York:20290630T190000
DTEND;TZID=America/New_York:20290630T210000
DTSTAMP:20260420T152335
CREATED:20260419T225806Z
LAST-MODIFIED:20260419T225806Z
UID:10003009-1877540400-1877547600@floridanychamber.com
SUMMARY:Open Mike Night at Edenville General Store
DESCRIPTION:
URL:https://floridanychamber.com/event/open-mike-night-at-edenville-general-store/2029-06-30
CATEGORIES:Edenville Event,Live Music
ATTACH;FMTTYPE=image/jpeg:https://floridanychamber.com/wp-content/uploads/2025/10/edenville.jpg
END:VEVENT
BEGIN:VEVENT
DTSTART;TZID=America/New_York:20290630T203000
DTEND;TZID=America/New_York:20290630T233000
DTSTAMP:20260420T152335
CREATED:20250429T224229Z
LAST-MODIFIED:20250429T224229Z
UID:10001946-1877545800-1877556600@floridanychamber.com
SUMMARY:Live at Barrel 28
DESCRIPTION:
URL:https://floridanychamber.com/event/live-at-barrel-28-2/2029-06-30
CATEGORIES:Live Music
ATTACH;FMTTYPE=image/jpeg:https://floridanychamber.com/wp-content/uploads/2025/04/492920215_988377616818081_1780179259162028801_n.jpg
END:VEVENT
BEGIN:VEVENT
DTSTART;TZID=America/New_York:20290701T203000
DTEND;TZID=America/New_York:20290701T233000
DTSTAMP:20260420T152335
CREATED:20250429T224229Z
LAST-MODIFIED:20250429T224229Z
UID:10001947-1877632200-1877643000@floridanychamber.com
SUMMARY:Live at Barrel 28
DESCRIPTION:
URL:https://floridanychamber.com/event/live-at-barrel-28-2/2029-07-01
CATEGORIES:Live Music
ATTACH;FMTTYPE=image/jpeg:https://floridanychamber.com/wp-content/uploads/2025/04/492920215_988377616818081_1780179259162028801_n.jpg
END:VEVENT
BEGIN:VEVENT
DTSTART;TZID=America/New_York:20290706T203000
DTEND;TZID=America/New_York:20290706T233000
DTSTAMP:20260420T152335
CREATED:20250429T224136Z
LAST-MODIFIED:20250429T224136Z
UID:10001470-1878064200-1878075000@floridanychamber.com
SUMMARY:Live at Barrel 28
DESCRIPTION:
URL:https://floridanychamber.com/event/live-at-barrel-28/2029-07-06
LOCATION:Barrel 28\, 28 North Main Street\, Florida\, NY\, 10921
CATEGORIES:Live Music
ATTACH;FMTTYPE=image/jpeg:https://floridanychamber.com/wp-content/uploads/2025/04/492920215_988377616818081_1780179259162028801_n.jpg
END:VEVENT
BEGIN:VEVENT
DTSTART;TZID=America/New_York:20290707T190000
DTEND;TZID=America/New_York:20290707T210000
DTSTAMP:20260420T152335
CREATED:20260419T225806Z
LAST-MODIFIED:20260419T225806Z
UID:10003010-1878145200-1878152400@floridanychamber.com
SUMMARY:Open Mike Night at Edenville General Store
DESCRIPTION:
URL:https://floridanychamber.com/event/open-mike-night-at-edenville-general-store/2029-07-07
CATEGORIES:Edenville Event,Live Music
ATTACH;FMTTYPE=image/jpeg:https://floridanychamber.com/wp-content/uploads/2025/10/edenville.jpg
END:VEVENT
BEGIN:VEVENT
DTSTART;TZID=America/New_York:20290707T203000
DTEND;TZID=America/New_York:20290707T233000
DTSTAMP:20260420T152335
CREATED:20250429T224229Z
LAST-MODIFIED:20250429T224229Z
UID:10001948-1878150600-1878161400@floridanychamber.com
SUMMARY:Live at Barrel 28
DESCRIPTION:
URL:https://floridanychamber.com/event/live-at-barrel-28-2/2029-07-07
CATEGORIES:Live Music
ATTACH;FMTTYPE=image/jpeg:https://floridanychamber.com/wp-content/uploads/2025/04/492920215_988377616818081_1780179259162028801_n.jpg
END:VEVENT
BEGIN:VEVENT
DTSTART;TZID=America/New_York:20290708T203000
DTEND;TZID=America/New_York:20290708T233000
DTSTAMP:20260420T152335
CREATED:20250429T224229Z
LAST-MODIFIED:20250429T224229Z
UID:10001949-1878237000-1878247800@floridanychamber.com
SUMMARY:Live at Barrel 28
DESCRIPTION:
URL:https://floridanychamber.com/event/live-at-barrel-28-2/2029-07-08
CATEGORIES:Live Music
ATTACH;FMTTYPE=image/jpeg:https://floridanychamber.com/wp-content/uploads/2025/04/492920215_988377616818081_1780179259162028801_n.jpg
END:VEVENT
BEGIN:VEVENT
DTSTART;TZID=America/New_York:20290713T203000
DTEND;TZID=America/New_York:20290713T233000
DTSTAMP:20260420T152335
CREATED:20250429T224136Z
LAST-MODIFIED:20250429T224136Z
UID:10001471-1878669000-1878679800@floridanychamber.com
SUMMARY:Live at Barrel 28
DESCRIPTION:
URL:https://floridanychamber.com/event/live-at-barrel-28/2029-07-13
LOCATION:Barrel 28\, 28 North Main Street\, Florida\, NY\, 10921
CATEGORIES:Live Music
ATTACH;FMTTYPE=image/jpeg:https://floridanychamber.com/wp-content/uploads/2025/04/492920215_988377616818081_1780179259162028801_n.jpg
END:VEVENT
BEGIN:VEVENT
DTSTART;TZID=America/New_York:20290714T190000
DTEND;TZID=America/New_York:20290714T210000
DTSTAMP:20260420T152335
CREATED:20260419T225806Z
LAST-MODIFIED:20260419T225806Z
UID:10003011-1878750000-1878757200@floridanychamber.com
SUMMARY:Open Mike Night at Edenville General Store
DESCRIPTION:
URL:https://floridanychamber.com/event/open-mike-night-at-edenville-general-store/2029-07-14
CATEGORIES:Edenville Event,Live Music
ATTACH;FMTTYPE=image/jpeg:https://floridanychamber.com/wp-content/uploads/2025/10/edenville.jpg
END:VEVENT
BEGIN:VEVENT
DTSTART;TZID=America/New_York:20290714T203000
DTEND;TZID=America/New_York:20290714T233000
DTSTAMP:20260420T152335
CREATED:20250429T224229Z
LAST-MODIFIED:20250429T224229Z
UID:10001950-1878755400-1878766200@floridanychamber.com
SUMMARY:Live at Barrel 28
DESCRIPTION:
URL:https://floridanychamber.com/event/live-at-barrel-28-2/2029-07-14
CATEGORIES:Live Music
ATTACH;FMTTYPE=image/jpeg:https://floridanychamber.com/wp-content/uploads/2025/04/492920215_988377616818081_1780179259162028801_n.jpg
END:VEVENT
BEGIN:VEVENT
DTSTART;TZID=America/New_York:20290715T203000
DTEND;TZID=America/New_York:20290715T233000
DTSTAMP:20260420T152335
CREATED:20250429T224229Z
LAST-MODIFIED:20250429T224229Z
UID:10001951-1878841800-1878852600@floridanychamber.com
SUMMARY:Live at Barrel 28
DESCRIPTION:
URL:https://floridanychamber.com/event/live-at-barrel-28-2/2029-07-15
CATEGORIES:Live Music
ATTACH;FMTTYPE=image/jpeg:https://floridanychamber.com/wp-content/uploads/2025/04/492920215_988377616818081_1780179259162028801_n.jpg
END:VEVENT
BEGIN:VEVENT
DTSTART;TZID=America/New_York:20290720T203000
DTEND;TZID=America/New_York:20290720T233000
DTSTAMP:20260420T152335
CREATED:20250429T224136Z
LAST-MODIFIED:20250429T224136Z
UID:10001472-1879273800-1879284600@floridanychamber.com
SUMMARY:Live at Barrel 28
DESCRIPTION:
URL:https://floridanychamber.com/event/live-at-barrel-28/2029-07-20
LOCATION:Barrel 28\, 28 North Main Street\, Florida\, NY\, 10921
CATEGORIES:Live Music
ATTACH;FMTTYPE=image/jpeg:https://floridanychamber.com/wp-content/uploads/2025/04/492920215_988377616818081_1780179259162028801_n.jpg
END:VEVENT
BEGIN:VEVENT
DTSTART;TZID=America/New_York:20290721T190000
DTEND;TZID=America/New_York:20290721T210000
DTSTAMP:20260420T152335
CREATED:20260419T225806Z
LAST-MODIFIED:20260419T225806Z
UID:10003012-1879354800-1879362000@floridanychamber.com
SUMMARY:Open Mike Night at Edenville General Store
DESCRIPTION:
URL:https://floridanychamber.com/event/open-mike-night-at-edenville-general-store/2029-07-21
CATEGORIES:Edenville Event,Live Music
ATTACH;FMTTYPE=image/jpeg:https://floridanychamber.com/wp-content/uploads/2025/10/edenville.jpg
END:VEVENT
BEGIN:VEVENT
DTSTART;TZID=America/New_York:20290721T203000
DTEND;TZID=America/New_York:20290721T233000
DTSTAMP:20260420T152335
CREATED:20250429T224229Z
LAST-MODIFIED:20250429T224229Z
UID:10001952-1879360200-1879371000@floridanychamber.com
SUMMARY:Live at Barrel 28
DESCRIPTION:
URL:https://floridanychamber.com/event/live-at-barrel-28-2/2029-07-21
CATEGORIES:Live Music
ATTACH;FMTTYPE=image/jpeg:https://floridanychamber.com/wp-content/uploads/2025/04/492920215_988377616818081_1780179259162028801_n.jpg
END:VEVENT
BEGIN:VEVENT
DTSTART;TZID=America/New_York:20290722T203000
DTEND;TZID=America/New_York:20290722T233000
DTSTAMP:20260420T152335
CREATED:20250429T224229Z
LAST-MODIFIED:20250429T224229Z
UID:10001953-1879446600-1879457400@floridanychamber.com
SUMMARY:Live at Barrel 28
DESCRIPTION:
URL:https://floridanychamber.com/event/live-at-barrel-28-2/2029-07-22
CATEGORIES:Live Music
ATTACH;FMTTYPE=image/jpeg:https://floridanychamber.com/wp-content/uploads/2025/04/492920215_988377616818081_1780179259162028801_n.jpg
END:VEVENT
BEGIN:VEVENT
DTSTART;TZID=America/New_York:20290727T203000
DTEND;TZID=America/New_York:20290727T233000
DTSTAMP:20260420T152335
CREATED:20250429T224136Z
LAST-MODIFIED:20250429T224136Z
UID:10001473-1879878600-1879889400@floridanychamber.com
SUMMARY:Live at Barrel 28
DESCRIPTION:
URL:https://floridanychamber.com/event/live-at-barrel-28/2029-07-27
LOCATION:Barrel 28\, 28 North Main Street\, Florida\, NY\, 10921
CATEGORIES:Live Music
ATTACH;FMTTYPE=image/jpeg:https://floridanychamber.com/wp-content/uploads/2025/04/492920215_988377616818081_1780179259162028801_n.jpg
END:VEVENT
BEGIN:VEVENT
DTSTART;TZID=America/New_York:20290728T190000
DTEND;TZID=America/New_York:20290728T210000
DTSTAMP:20260420T152335
CREATED:20260419T225806Z
LAST-MODIFIED:20260419T225806Z
UID:10003013-1879959600-1879966800@floridanychamber.com
SUMMARY:Open Mike Night at Edenville General Store
DESCRIPTION:
URL:https://floridanychamber.com/event/open-mike-night-at-edenville-general-store/2029-07-28
CATEGORIES:Edenville Event,Live Music
ATTACH;FMTTYPE=image/jpeg:https://floridanychamber.com/wp-content/uploads/2025/10/edenville.jpg
END:VEVENT
BEGIN:VEVENT
DTSTART;TZID=America/New_York:20290728T203000
DTEND;TZID=America/New_York:20290728T233000
DTSTAMP:20260420T152335
CREATED:20250429T224229Z
LAST-MODIFIED:20250429T224229Z
UID:10001954-1879965000-1879975800@floridanychamber.com
SUMMARY:Live at Barrel 28
DESCRIPTION:
URL:https://floridanychamber.com/event/live-at-barrel-28-2/2029-07-28
CATEGORIES:Live Music
ATTACH;FMTTYPE=image/jpeg:https://floridanychamber.com/wp-content/uploads/2025/04/492920215_988377616818081_1780179259162028801_n.jpg
END:VEVENT
BEGIN:VEVENT
DTSTART;TZID=America/New_York:20290729T203000
DTEND;TZID=America/New_York:20290729T233000
DTSTAMP:20260420T152335
CREATED:20250429T224229Z
LAST-MODIFIED:20250429T224229Z
UID:10001955-1880051400-1880062200@floridanychamber.com
SUMMARY:Live at Barrel 28
DESCRIPTION:
URL:https://floridanychamber.com/event/live-at-barrel-28-2/2029-07-29
CATEGORIES:Live Music
ATTACH;FMTTYPE=image/jpeg:https://floridanychamber.com/wp-content/uploads/2025/04/492920215_988377616818081_1780179259162028801_n.jpg
END:VEVENT
BEGIN:VEVENT
DTSTART;TZID=America/New_York:20290803T203000
DTEND;TZID=America/New_York:20290803T233000
DTSTAMP:20260420T152335
CREATED:20250429T224136Z
LAST-MODIFIED:20250429T224136Z
UID:10001474-1880483400-1880494200@floridanychamber.com
SUMMARY:Live at Barrel 28
DESCRIPTION:
URL:https://floridanychamber.com/event/live-at-barrel-28/2029-08-03
LOCATION:Barrel 28\, 28 North Main Street\, Florida\, NY\, 10921
CATEGORIES:Live Music
ATTACH;FMTTYPE=image/jpeg:https://floridanychamber.com/wp-content/uploads/2025/04/492920215_988377616818081_1780179259162028801_n.jpg
END:VEVENT
BEGIN:VEVENT
DTSTART;TZID=America/New_York:20290804T190000
DTEND;TZID=America/New_York:20290804T210000
DTSTAMP:20260420T152335
CREATED:20260419T225806Z
LAST-MODIFIED:20260419T225806Z
UID:10003014-1880564400-1880571600@floridanychamber.com
SUMMARY:Open Mike Night at Edenville General Store
DESCRIPTION:
URL:https://floridanychamber.com/event/open-mike-night-at-edenville-general-store/2029-08-04
CATEGORIES:Edenville Event,Live Music
ATTACH;FMTTYPE=image/jpeg:https://floridanychamber.com/wp-content/uploads/2025/10/edenville.jpg
END:VEVENT
BEGIN:VEVENT
DTSTART;TZID=America/New_York:20290804T203000
DTEND;TZID=America/New_York:20290804T233000
DTSTAMP:20260420T152335
CREATED:20250429T224229Z
LAST-MODIFIED:20250429T224229Z
UID:10001956-1880569800-1880580600@floridanychamber.com
SUMMARY:Live at Barrel 28
DESCRIPTION:
URL:https://floridanychamber.com/event/live-at-barrel-28-2/2029-08-04
CATEGORIES:Live Music
ATTACH;FMTTYPE=image/jpeg:https://floridanychamber.com/wp-content/uploads/2025/04/492920215_988377616818081_1780179259162028801_n.jpg
END:VEVENT
BEGIN:VEVENT
DTSTART;TZID=America/New_York:20290805T203000
DTEND;TZID=America/New_York:20290805T233000
DTSTAMP:20260420T152335
CREATED:20250429T224229Z
LAST-MODIFIED:20250429T224229Z
UID:10001957-1880656200-1880667000@floridanychamber.com
SUMMARY:Live at Barrel 28
DESCRIPTION:
URL:https://floridanychamber.com/event/live-at-barrel-28-2/2029-08-05
CATEGORIES:Live Music
ATTACH;FMTTYPE=image/jpeg:https://floridanychamber.com/wp-content/uploads/2025/04/492920215_988377616818081_1780179259162028801_n.jpg
END:VEVENT
BEGIN:VEVENT
DTSTART;TZID=America/New_York:20290810T203000
DTEND;TZID=America/New_York:20290810T233000
DTSTAMP:20260420T152335
CREATED:20250429T224136Z
LAST-MODIFIED:20250429T224136Z
UID:10001475-1881088200-1881099000@floridanychamber.com
SUMMARY:Live at Barrel 28
DESCRIPTION:
URL:https://floridanychamber.com/event/live-at-barrel-28/2029-08-10
LOCATION:Barrel 28\, 28 North Main Street\, Florida\, NY\, 10921
CATEGORIES:Live Music
ATTACH;FMTTYPE=image/jpeg:https://floridanychamber.com/wp-content/uploads/2025/04/492920215_988377616818081_1780179259162028801_n.jpg
END:VEVENT
BEGIN:VEVENT
DTSTART;TZID=America/New_York:20290811T190000
DTEND;TZID=America/New_York:20290811T210000
DTSTAMP:20260420T152335
CREATED:20260419T225806Z
LAST-MODIFIED:20260419T225806Z
UID:10003015-1881169200-1881176400@floridanychamber.com
SUMMARY:Open Mike Night at Edenville General Store
DESCRIPTION:
URL:https://floridanychamber.com/event/open-mike-night-at-edenville-general-store/2029-08-11
CATEGORIES:Edenville Event,Live Music
ATTACH;FMTTYPE=image/jpeg:https://floridanychamber.com/wp-content/uploads/2025/10/edenville.jpg
END:VEVENT
END:VCALENDAR