BEGIN:VCALENDAR
VERSION:2.0
PRODID:-//Florida NY Chamber - ECPv6.15.20//NONSGML v1.0//EN
CALSCALE:GREGORIAN
METHOD:PUBLISH
X-WR-CALNAME:Florida NY Chamber
X-ORIGINAL-URL:https://floridanychamber.com
X-WR-CALDESC:Events for Florida NY Chamber
REFRESH-INTERVAL;VALUE=DURATION:PT1H
X-Robots-Tag:noindex
X-PUBLISHED-TTL:PT1H
BEGIN:VTIMEZONE
TZID:America/New_York
BEGIN:DAYLIGHT
TZOFFSETFROM:-0500
TZOFFSETTO:-0400
TZNAME:EDT
DTSTART:20250309T070000
END:DAYLIGHT
BEGIN:STANDARD
TZOFFSETFROM:-0400
TZOFFSETTO:-0500
TZNAME:EST
DTSTART:20251102T060000
END:STANDARD
BEGIN:DAYLIGHT
TZOFFSETFROM:-0500
TZOFFSETTO:-0400
TZNAME:EDT
DTSTART:20260308T070000
END:DAYLIGHT
BEGIN:STANDARD
TZOFFSETFROM:-0400
TZOFFSETTO:-0500
TZNAME:EST
DTSTART:20261101T060000
END:STANDARD
BEGIN:DAYLIGHT
TZOFFSETFROM:-0500
TZOFFSETTO:-0400
TZNAME:EDT
DTSTART:20270314T070000
END:DAYLIGHT
BEGIN:STANDARD
TZOFFSETFROM:-0400
TZOFFSETTO:-0500
TZNAME:EST
DTSTART:20271107T060000
END:STANDARD
END:VTIMEZONE
BEGIN:VEVENT
DTSTART;TZID=America/New_York:20260503T140000
DTEND;TZID=America/New_York:20260503T170000
DTSTAMP:20260422T071229
CREATED:20260419T231645Z
LAST-MODIFIED:20260419T231645Z
UID:10003438-1777816800-1777827600@floridanychamber.com
SUMMARY:Edenville General Store Presents
DESCRIPTION:Bunker Boys\, blue grass band: May 3\, 2026\nMay 17: Songwriters 1-4PM\nJune 14: Oxford Station Band\, blue grass band: 3-5PM
URL:https://floridanychamber.com/event/edenville-general-store-presents-3
CATEGORIES:Edenville Event
ATTACH;FMTTYPE=image/jpeg:https://floridanychamber.com/wp-content/uploads/2026/04/633905032_1481680607290876_1907445902890526664_n.jpg
END:VEVENT
BEGIN:VEVENT
DTSTART;TZID=America/New_York:20260517T130000
DTEND;TZID=America/New_York:20260517T160000
DTSTAMP:20260422T071229
CREATED:20260419T230557Z
LAST-MODIFIED:20260419T230907Z
UID:10003439-1779022800-1779033600@floridanychamber.com
SUMMARY:Edenville General Store Presents
DESCRIPTION:Bunker Boys\, blue grass band: May 3\, 2026\nMay 17: Songwriters 1-4PM\nJune 14: Oxford Station Band\, blue grass band: 3-5PM
URL:https://floridanychamber.com/event/edenville-general-store-presents/2026-05-17
CATEGORIES:Edenville Event
ATTACH;FMTTYPE=image/jpeg:https://floridanychamber.com/wp-content/uploads/2026/04/dinimartha-concert-5475619-scaled.jpg
END:VEVENT
END:VCALENDAR