BEGIN:VCALENDAR
VERSION:2.0
PRODID:-//Florida NY Chamber - ECPv6.15.20//NONSGML v1.0//EN
CALSCALE:GREGORIAN
METHOD:PUBLISH
X-WR-CALNAME:Florida NY Chamber
X-ORIGINAL-URL:https://floridanychamber.com
X-WR-CALDESC:Events for Florida NY Chamber
REFRESH-INTERVAL;VALUE=DURATION:PT1H
X-Robots-Tag:noindex
X-PUBLISHED-TTL:PT1H
BEGIN:VTIMEZONE
TZID:America/New_York
BEGIN:DAYLIGHT
TZOFFSETFROM:-0500
TZOFFSETTO:-0400
TZNAME:EDT
DTSTART:20250309T070000
END:DAYLIGHT
BEGIN:STANDARD
TZOFFSETFROM:-0400
TZOFFSETTO:-0500
TZNAME:EST
DTSTART:20251102T060000
END:STANDARD
BEGIN:DAYLIGHT
TZOFFSETFROM:-0500
TZOFFSETTO:-0400
TZNAME:EDT
DTSTART:20260308T070000
END:DAYLIGHT
BEGIN:STANDARD
TZOFFSETFROM:-0400
TZOFFSETTO:-0500
TZNAME:EST
DTSTART:20261101T060000
END:STANDARD
BEGIN:DAYLIGHT
TZOFFSETFROM:-0500
TZOFFSETTO:-0400
TZNAME:EDT
DTSTART:20270314T070000
END:DAYLIGHT
BEGIN:STANDARD
TZOFFSETFROM:-0400
TZOFFSETTO:-0500
TZNAME:EST
DTSTART:20271107T060000
END:STANDARD
END:VTIMEZONE
BEGIN:VEVENT
DTSTART;TZID=America/New_York:20260124T163000
DTEND;TZID=America/New_York:20260124T193000
DTSTAMP:20260420T094244
CREATED:20251210T170348Z
LAST-MODIFIED:20251210T171605Z
UID:10002572-1769272200-1769283000@floridanychamber.com
SUMMARY:Winter Wiggle
DESCRIPTION:We’re excited to invite you and your members to join us for the second annual “Warwick’s Winter Wiggle – Shake Off Those Post-Holiday Blues!” on Saturday\, January 24\, 2026 (snow date: January 25) at Mountain Lake Park\, 46 Bowen Road\, Warwick\, NY 10990. Please see the attached save-the-date for additional details. \nLast year’s event was a wonderful success\, bringing our community together during what can be a challenging time of year. This free\, family-friendly gathering will once again feature live music and square dancing with the Richard Stillman Band\, arts and crafts for kids of all ages\, and finger foods and refreshments (with donations from local restaurants). Mental health resources will be available\, along with opportunities to connect with community organizations—many of whom participated last year\, including the American Legion\, Rotary Club\, Lions Club\, and the Ambulance Corps. \nThe Winter Wiggle is a collaborative effort by Warwick Cares\, the Warwick Valley Community Center / Warwick Valley Prevention Coalition\, with support from the Town and Village of Warwick.
URL:https://floridanychamber.com/event/winter-wiggle
LOCATION:Mountain Lake Park\, 36 Bowen Road\, Warwick\, NY\, 10990\, United States
CATEGORIES:Community Event,Fund Raising
ATTACH;FMTTYPE=image/jpeg:https://floridanychamber.com/wp-content/uploads/2025/12/winter-wiggle.jpg
END:VEVENT
END:VCALENDAR