BEGIN:VCALENDAR
VERSION:2.0
PRODID:-//Florida NY Chamber - ECPv6.15.20//NONSGML v1.0//EN
CALSCALE:GREGORIAN
METHOD:PUBLISH
X-WR-CALNAME:Florida NY Chamber
X-ORIGINAL-URL:https://floridanychamber.com
X-WR-CALDESC:Events for Florida NY Chamber
REFRESH-INTERVAL;VALUE=DURATION:PT1H
X-Robots-Tag:noindex
X-PUBLISHED-TTL:PT1H
BEGIN:VTIMEZONE
TZID:America/New_York
BEGIN:DAYLIGHT
TZOFFSETFROM:-0500
TZOFFSETTO:-0400
TZNAME:EDT
DTSTART:20240310T070000
END:DAYLIGHT
BEGIN:STANDARD
TZOFFSETFROM:-0400
TZOFFSETTO:-0500
TZNAME:EST
DTSTART:20241103T060000
END:STANDARD
BEGIN:DAYLIGHT
TZOFFSETFROM:-0500
TZOFFSETTO:-0400
TZNAME:EDT
DTSTART:20250309T070000
END:DAYLIGHT
BEGIN:STANDARD
TZOFFSETFROM:-0400
TZOFFSETTO:-0500
TZNAME:EST
DTSTART:20251102T060000
END:STANDARD
BEGIN:DAYLIGHT
TZOFFSETFROM:-0500
TZOFFSETTO:-0400
TZNAME:EDT
DTSTART:20260308T070000
END:DAYLIGHT
BEGIN:STANDARD
TZOFFSETFROM:-0400
TZOFFSETTO:-0500
TZNAME:EST
DTSTART:20261101T060000
END:STANDARD
BEGIN:DAYLIGHT
TZOFFSETFROM:-0500
TZOFFSETTO:-0400
TZNAME:EDT
DTSTART:20270314T070000
END:DAYLIGHT
BEGIN:STANDARD
TZOFFSETFROM:-0400
TZOFFSETTO:-0500
TZNAME:EST
DTSTART:20271107T060000
END:STANDARD
END:VTIMEZONE
BEGIN:VEVENT
DTSTART;TZID=America/New_York:20260321T110000
DTEND;TZID=America/New_York:20260321T120000
DTSTAMP:20260424T120100
CREATED:20260301T171341Z
LAST-MODIFIED:20260301T171341Z
UID:10002837-1774090800-1774094400@floridanychamber.com
SUMMARY:Easter Egg Hunt
DESCRIPTION:
URL:https://floridanychamber.com/event/easter-egg-hunt-2
LOCATION:Seward-Mapes Homestead Park\, 35 N Main Street\, Florida\, NY\, 10921
CATEGORIES:Community Event
ATTACH;FMTTYPE=image/png:https://floridanychamber.com/wp-content/uploads/2026/03/Screenshot-2026-03-01-at-12.11.52-PM.png
END:VEVENT
BEGIN:VEVENT
DTSTART;TZID=America/New_York:20251025T140000
DTEND;TZID=America/New_York:20251025T160000
DTSTAMP:20260424T120100
CREATED:20251006T163504Z
LAST-MODIFIED:20251006T163504Z
UID:10002567-1761400800-1761408000@floridanychamber.com
SUMMARY:Trunk or Treat
DESCRIPTION:Join us for Trunk or Treat Halloween crafts\, treats\, games\, and more!
URL:https://floridanychamber.com/event/trunk-or-treat
LOCATION:Seward-Mapes Homestead Park\, 35 N Main Street\, Florida\, NY\, 10921
CATEGORIES:Arts & Entertainment,Family Event
ATTACH;FMTTYPE=image/jpeg:https://floridanychamber.com/wp-content/uploads/2025/10/florida-trunk.jpg
END:VEVENT
END:VCALENDAR